BEGIN:VCALENDAR
VERSION:2.0
PRODID:-//VALRC - ECPv6.15.17.1//NONSGML v1.0//EN
CALSCALE:GREGORIAN
METHOD:PUBLISH
X-WR-CALNAME:VALRC
X-ORIGINAL-URL:https://valrc.org
X-WR-CALDESC:Events for VALRC
REFRESH-INTERVAL;VALUE=DURATION:PT1H
X-Robots-Tag:noindex
X-PUBLISHED-TTL:PT1H
BEGIN:VTIMEZONE
TZID:America/New_York
BEGIN:DAYLIGHT
TZOFFSETFROM:-0500
TZOFFSETTO:-0400
TZNAME:EDT
DTSTART:20230312T070000
END:DAYLIGHT
BEGIN:STANDARD
TZOFFSETFROM:-0400
TZOFFSETTO:-0500
TZNAME:EST
DTSTART:20231105T060000
END:STANDARD
BEGIN:DAYLIGHT
TZOFFSETFROM:-0500
TZOFFSETTO:-0400
TZNAME:EDT
DTSTART:20240310T070000
END:DAYLIGHT
BEGIN:STANDARD
TZOFFSETFROM:-0400
TZOFFSETTO:-0500
TZNAME:EST
DTSTART:20241103T060000
END:STANDARD
BEGIN:DAYLIGHT
TZOFFSETFROM:-0500
TZOFFSETTO:-0400
TZNAME:EDT
DTSTART:20250309T070000
END:DAYLIGHT
BEGIN:STANDARD
TZOFFSETFROM:-0400
TZOFFSETTO:-0500
TZNAME:EST
DTSTART:20251102T060000
END:STANDARD
END:VTIMEZONE
BEGIN:VEVENT
DTSTART;TZID=America/New_York:20240820T153000
DTEND;TZID=America/New_York:20240820T163000
DTSTAMP:20260421T113727
CREATED:20240709T111517Z
LAST-MODIFIED:20240709T111517Z
UID:10000591-1724167800-1724171400@valrc.org
SUMMARY:LINCS: Understanding the Science of Reading
DESCRIPTION:Confused about the Science of Reading (SOR) and how to apply its principles to instruction in your adult education program? Join LINCS moderators Steve Schmidt\, Dr. Carmine Stewart\, and Dr. Kathy Tracey as they unpack the SOR and provide information on LINCS resources that will help elevate your reading instruction. Register for this event here .
URL:https://valrc.org/event/lincs-understanding-the-science-of-reading/
LOCATION:Online
ATTACH;FMTTYPE=image/png:https://valrc.org/wp-content/uploads/2022/02/LINCS-Logo-1.png
END:VEVENT
END:VCALENDAR