BEGIN:VCALENDAR
VERSION:2.0
PRODID:-//VALRC - ECPv6.15.17.1//NONSGML v1.0//EN
CALSCALE:GREGORIAN
METHOD:PUBLISH
X-ORIGINAL-URL:https://valrc.org
X-WR-CALDESC:Events for VALRC
REFRESH-INTERVAL;VALUE=DURATION:PT1H
X-Robots-Tag:noindex
X-PUBLISHED-TTL:PT1H
BEGIN:VTIMEZONE
TZID:America/New_York
BEGIN:DAYLIGHT
TZOFFSETFROM:-0500
TZOFFSETTO:-0400
TZNAME:EDT
DTSTART:20240310T070000
END:DAYLIGHT
BEGIN:STANDARD
TZOFFSETFROM:-0400
TZOFFSETTO:-0500
TZNAME:EST
DTSTART:20241103T060000
END:STANDARD
BEGIN:DAYLIGHT
TZOFFSETFROM:-0500
TZOFFSETTO:-0400
TZNAME:EDT
DTSTART:20250309T070000
END:DAYLIGHT
BEGIN:STANDARD
TZOFFSETFROM:-0400
TZOFFSETTO:-0500
TZNAME:EST
DTSTART:20251102T060000
END:STANDARD
BEGIN:DAYLIGHT
TZOFFSETFROM:-0500
TZOFFSETTO:-0400
TZNAME:EDT
DTSTART:20260308T070000
END:DAYLIGHT
BEGIN:STANDARD
TZOFFSETFROM:-0400
TZOFFSETTO:-0500
TZNAME:EST
DTSTART:20261101T060000
END:STANDARD
END:VTIMEZONE
BEGIN:VEVENT
DTSTART;TZID=America/New_York:20250108T160000
DTEND;TZID=America/New_York:20250108T170000
DTSTAMP:20260421T032104
CREATED:20241205T144255Z
LAST-MODIFIED:20241220T143602Z
UID:10000692-1736352000-1736355600@valrc.org
SUMMARY:LINCS: Learning About Dyslexia and Supporting Learners in the Classroom
DESCRIPTION:Dyslexia is a specific learning disability in reading characterized by difficulties with word recognition and poor spelling and decoding abilities. Estimates of dyslexia fall in the range of 5 to 20 percent of the population. Join LINCS Moderator\, Michael Cruse\, Learners with Disabilities group to learn why this range is so broad\, options for screening potentially dyslextic learners\, and strategies for supporting students who seek a formal diagnosis. We will also cover best practices and accommodations to support learners with dyslexia in the adult education setting. \nRegister at the link below: \nhttps://air-org.zoom.us/meeting/register/tJUvfuGsqDgsE9Ec5Ki-D7h6-J9u-j2Fm5vp
URL:https://valrc.org/event/lincs-learning-about-dyslexia-and-supporting-learners-in-the-classroom/
LOCATION:Online
ATTACH;FMTTYPE=image/png:https://valrc.org/wp-content/uploads/2022/02/LINCS-Logo-1.png
END:VEVENT
END:VCALENDAR