BEGIN:VCALENDAR
VERSION:2.0
PRODID:-//VALRC - ECPv6.15.17.1//NONSGML v1.0//EN
CALSCALE:GREGORIAN
METHOD:PUBLISH
X-ORIGINAL-URL:https://valrc.org
X-WR-CALDESC:Events for VALRC
REFRESH-INTERVAL;VALUE=DURATION:PT1H
X-Robots-Tag:noindex
X-PUBLISHED-TTL:PT1H
BEGIN:VTIMEZONE
TZID:America/New_York
BEGIN:DAYLIGHT
TZOFFSETFROM:-0500
TZOFFSETTO:-0400
TZNAME:EDT
DTSTART:20230312T070000
END:DAYLIGHT
BEGIN:STANDARD
TZOFFSETFROM:-0400
TZOFFSETTO:-0500
TZNAME:EST
DTSTART:20231105T060000
END:STANDARD
BEGIN:DAYLIGHT
TZOFFSETFROM:-0500
TZOFFSETTO:-0400
TZNAME:EDT
DTSTART:20240310T070000
END:DAYLIGHT
BEGIN:STANDARD
TZOFFSETFROM:-0400
TZOFFSETTO:-0500
TZNAME:EST
DTSTART:20241103T060000
END:STANDARD
BEGIN:DAYLIGHT
TZOFFSETFROM:-0500
TZOFFSETTO:-0400
TZNAME:EDT
DTSTART:20250309T070000
END:DAYLIGHT
BEGIN:STANDARD
TZOFFSETFROM:-0400
TZOFFSETTO:-0500
TZNAME:EST
DTSTART:20251102T060000
END:STANDARD
END:VTIMEZONE
BEGIN:VEVENT
DTSTART;TZID=America/New_York:20241001T130000
DTEND;TZID=America/New_York:20241001T140000
DTSTAMP:20260421T072449
CREATED:20240925T151352Z
LAST-MODIFIED:20240925T151352Z
UID:10000641-1727787600-1727791200@valrc.org
SUMMARY:edWeb: Teenagers with Dyslexia: Empowering Adolescent Learners
DESCRIPTION:In this edWebinar\, we will explore effective classroom practices and interventions tailored specifically for adolescents with dyslexia. Attendees will gain valuable insights into fostering academic success and promoting positive well-being among adolescent learners with dyslexia\, while receiving actionable tips for creating learning environments that support students with dyslexia. \nAttendees will be empowered with tools and strategies to champion adolescents on their educational journey. Together\, we can cultivate a supportive community where every learner thrives\, regardless of their unique learning profile. Attendees will learn about: \n\nCharacteristics of teenagers with dyslexia\nAdvanced concepts for improving literacy outcomes for secondary students\nClassroom strategies applicable for older struggling readers and writers\nSocial and emotional support for teenagers with dyslexia\nResources and tools to support adolescent learners\n\nThis edWebinar will be of interest to middle and high school teachers\, school leaders\, district leaders\, literacy coaches\, and intervention specialists. There will be time for questions at the end of the presentation. \nRegister here
URL:https://valrc.org/event/edweb-teenagers-with-dyslexia-empowering-adolescent-learners/
LOCATION:Online
END:VEVENT
BEGIN:VEVENT
DTSTART;TZID=America/New_York:20241002T130000
DTEND;TZID=America/New_York:20241002T140000
DTSTAMP:20260421T072449
CREATED:20240925T151725Z
LAST-MODIFIED:20240925T151725Z
UID:10000642-1727874000-1727877600@valrc.org
SUMMARY:edWeb: Conquering Dyslexia: Strategies Based in Science to Help ALL Students
DESCRIPTION:Join this enlightening edWebinar as Dr. Jan Hasbrouck\, esteemed literacy expert\, researcher\, and author\, draws from both professional and personal experience to dispel dyslexia myths and emphasize the need for differentiated\, systematically designed explicit instruction based on science. She’ll share Nancy Young’s infographic The Ladder of Reading & Writing to learn about the rationale and a framework for literacy instruction based on students’ identified needs and strengths. Attendees will learn: \n\nHow to connect the Science of Reading to your teaching\nTo understand the power of differentiating instruction to meet ALL students’ needs\nThe current research on identifying and designing appropriate instruction for students with dyslexia and other word-level reading challenges\nIdeas for successfully differentiating literacy instruction to meet the needs of ALL learners in real-world classrooms\n\nRegister here
URL:https://valrc.org/event/edweb-conquering-dyslexia-strategies-based-in-science-to-help-all-students/
LOCATION:Online
END:VEVENT
BEGIN:VEVENT
DTSTART;TZID=America/New_York:20241003T130000
DTEND;TZID=America/New_York:20241003T140000
DTSTAMP:20260421T072449
CREATED:20240925T152036Z
LAST-MODIFIED:20240925T152320Z
UID:10000643-1727960400-1727964000@valrc.org
SUMMARY:edWeb: What Do I Do Now? Using Data to Intensify Reading Interventions
DESCRIPTION:Students with dyslexia often require intensive reading interventions to experience success. Trying to find the right intervention can be a difficult and frustrating process. Join this applicable edWebinar that goes beyond identification and gives attendees an in-depth look at using data for the most successful reading interventions. \nOur presenter\, Dr. Matthew Burns\, who is widely known and respected for his experience in working with striving readers\, will present a framework educators can use to examine data and student performance. The framework and the strategies Dr. Burns will share empower educators to be able to select interventions with a higher likelihood of success and to modify current intervention efforts to enhance student outcomes. Attendees will learn: \n\nThe importance of improved reading instruction rather than solely focusing on identification\nThe significance of individualized instruction for dyslexic students\nStrategies to use in small group instruction\nAn understanding of a practical framework to select reading interventions for students with dyslexia\nSkills to match reading interventions to student needs\nKnowledge of specific reading interventions to address student needs\n\nRegister here
URL:https://valrc.org/event/edweb-what-do-i-do-now-using-data-to-intensify-reading-interventions/
LOCATION:Online
END:VEVENT
END:VCALENDAR