BEGIN:VCALENDAR
VERSION:2.0
PRODID:-//VALRC - ECPv6.15.17.1//NONSGML v1.0//EN
CALSCALE:GREGORIAN
METHOD:PUBLISH
X-WR-CALNAME:VALRC
X-ORIGINAL-URL:https://valrc.org
X-WR-CALDESC:Events for VALRC
REFRESH-INTERVAL;VALUE=DURATION:PT1H
X-Robots-Tag:noindex
X-PUBLISHED-TTL:PT1H
BEGIN:VTIMEZONE
TZID:America/New_York
BEGIN:DAYLIGHT
TZOFFSETFROM:-0500
TZOFFSETTO:-0400
TZNAME:EDT
DTSTART:20230312T070000
END:DAYLIGHT
BEGIN:STANDARD
TZOFFSETFROM:-0400
TZOFFSETTO:-0500
TZNAME:EST
DTSTART:20231105T060000
END:STANDARD
BEGIN:DAYLIGHT
TZOFFSETFROM:-0500
TZOFFSETTO:-0400
TZNAME:EDT
DTSTART:20240310T070000
END:DAYLIGHT
BEGIN:STANDARD
TZOFFSETFROM:-0400
TZOFFSETTO:-0500
TZNAME:EST
DTSTART:20241103T060000
END:STANDARD
BEGIN:DAYLIGHT
TZOFFSETFROM:-0500
TZOFFSETTO:-0400
TZNAME:EDT
DTSTART:20250309T070000
END:DAYLIGHT
BEGIN:STANDARD
TZOFFSETFROM:-0400
TZOFFSETTO:-0500
TZNAME:EST
DTSTART:20251102T060000
END:STANDARD
END:VTIMEZONE
BEGIN:VEVENT
DTSTART;VALUE=DATE:20240325
DTEND;VALUE=DATE:20240329
DTSTAMP:20260423T163149
CREATED:20240306T135345Z
LAST-MODIFIED:20240306T135805Z
UID:10000537-1711324800-1711670399@valrc.org
SUMMARY:EdWeb: Science of Reading Week
DESCRIPTION:When schools and districts connect knowledge of the science of reading with instruction\, we can realize exponential power for change. These panels are designed to address the needs of every educator\, school administrator and district leader\, empowering you with knowledge of structured literacy to forever reshape students’ academic journeys. \nJoin EdWeb and Lexia for four days of inspiration\, guidance\, and expert advice to unlock literacy learning\nfor every student through the science of reading. Webinars are 12:00-1:00pm Monday March 25 – Thursday March 28. Register for individual webinars or the whole week. \nRegister
URL:https://valrc.org/event/edweb-science-of-reading-week/
LOCATION:Online
END:VEVENT
BEGIN:VEVENT
DTSTART;TZID=America/New_York:20240326T150000
DTEND;TZID=America/New_York:20240326T160000
DTSTAMP:20260423T163149
CREATED:20240119T141204Z
LAST-MODIFIED:20240213T152146Z
UID:10000497-1711465200-1711468800@valrc.org
SUMMARY:ProLiteracy: “What are They Really Saying?” Helping Students Read Between the Lines and Make Inferences
DESCRIPTION:Students preparing for the HSE exams often focus too much on what’s explicitly present in a text. This may allow them to recall specific details and find evidence\, but it hinders them from making inferences and drawing conclusions. In this webinar\, learn how to help students dig deeper to make inferences about what’s being implicitly stated in the text. \nRegister \nThis webinar is part of the Teacher Training Plus series
URL:https://valrc.org/event/proliteracy-what-are-they-really-saying-helping-students-read-between-the-lines-and-make-inferences/
LOCATION:Online
END:VEVENT
END:VCALENDAR