BEGIN:VCALENDAR
VERSION:2.0
PRODID:-//VALRC - ECPv6.15.17.1//NONSGML v1.0//EN
CALSCALE:GREGORIAN
METHOD:PUBLISH
X-WR-CALNAME:VALRC
X-ORIGINAL-URL:https://valrc.org
X-WR-CALDESC:Events for VALRC
REFRESH-INTERVAL;VALUE=DURATION:PT1H
X-Robots-Tag:noindex
X-PUBLISHED-TTL:PT1H
BEGIN:VTIMEZONE
TZID:America/New_York
BEGIN:DAYLIGHT
TZOFFSETFROM:-0500
TZOFFSETTO:-0400
TZNAME:EDT
DTSTART:20230312T070000
END:DAYLIGHT
BEGIN:STANDARD
TZOFFSETFROM:-0400
TZOFFSETTO:-0500
TZNAME:EST
DTSTART:20231105T060000
END:STANDARD
BEGIN:DAYLIGHT
TZOFFSETFROM:-0500
TZOFFSETTO:-0400
TZNAME:EDT
DTSTART:20240310T070000
END:DAYLIGHT
BEGIN:STANDARD
TZOFFSETFROM:-0400
TZOFFSETTO:-0500
TZNAME:EST
DTSTART:20241103T060000
END:STANDARD
BEGIN:DAYLIGHT
TZOFFSETFROM:-0500
TZOFFSETTO:-0400
TZNAME:EDT
DTSTART:20250309T070000
END:DAYLIGHT
BEGIN:STANDARD
TZOFFSETFROM:-0400
TZOFFSETTO:-0500
TZNAME:EST
DTSTART:20251102T060000
END:STANDARD
END:VTIMEZONE
BEGIN:VEVENT
DTSTART;TZID=America/New_York:20240207T140000
DTEND;TZID=America/New_York:20240207T160000
DTSTAMP:20260423T173619
CREATED:20240119T181757Z
LAST-MODIFIED:20240213T152238Z
UID:10000501-1707314400-1707321600@valrc.org
SUMMARY:Literacy Minnesota: Teaching Reading Vocabulary Remotely or In Person
DESCRIPTION:Vocabulary is everyone’s favorite reading component! And helping students master reading vocabulary is a key to helping them master comprehension. But how many words should you teach? And which words are the most important? What strategies are best for helping students learn new words? How do you get students to make new words part of their receptive and productive vocabularies? This webinar will focus on the theory and best practice behind choosing\, teaching and reviewing reading vocabulary. You’ll get a chance to learn about (and practice) a variety of activities that can be done remotely or in person. Links to great online resources will also be provided. \nRegister
URL:https://valrc.org/event/literacy-minnesota-teaching-reading-vocabulary-remotely-or-in-person-2/
LOCATION:Online
END:VEVENT
END:VCALENDAR