BEGIN:VCALENDAR
VERSION:2.0
PRODID:-//VALRC - ECPv6.15.17.1//NONSGML v1.0//EN
CALSCALE:GREGORIAN
METHOD:PUBLISH
X-ORIGINAL-URL:https://valrc.org
X-WR-CALDESC:Events for VALRC
REFRESH-INTERVAL;VALUE=DURATION:PT1H
X-Robots-Tag:noindex
X-PUBLISHED-TTL:PT1H
BEGIN:VTIMEZONE
TZID:America/New_York
BEGIN:DAYLIGHT
TZOFFSETFROM:-0500
TZOFFSETTO:-0400
TZNAME:EDT
DTSTART:20230312T070000
END:DAYLIGHT
BEGIN:STANDARD
TZOFFSETFROM:-0400
TZOFFSETTO:-0500
TZNAME:EST
DTSTART:20231105T060000
END:STANDARD
BEGIN:DAYLIGHT
TZOFFSETFROM:-0500
TZOFFSETTO:-0400
TZNAME:EDT
DTSTART:20240310T070000
END:DAYLIGHT
BEGIN:STANDARD
TZOFFSETFROM:-0400
TZOFFSETTO:-0500
TZNAME:EST
DTSTART:20241103T060000
END:STANDARD
BEGIN:DAYLIGHT
TZOFFSETFROM:-0500
TZOFFSETTO:-0400
TZNAME:EDT
DTSTART:20250309T070000
END:DAYLIGHT
BEGIN:STANDARD
TZOFFSETFROM:-0400
TZOFFSETTO:-0500
TZNAME:EST
DTSTART:20251102T060000
END:STANDARD
END:VTIMEZONE
BEGIN:VEVENT
DTSTART;TZID=America/New_York:20240206T140000
DTEND;TZID=America/New_York:20240206T150000
DTSTAMP:20260424T051104
CREATED:20230912T175318Z
LAST-MODIFIED:20230912T175333Z
UID:10000436-1707228000-1707231600@valrc.org
SUMMARY:VDOE 2024 Data Office Hours
DESCRIPTION:
URL:https://valrc.org/event/vdoe-2024-data-office-hours-2/
CATEGORIES:Online Open Discussion
END:VEVENT
BEGIN:VEVENT
DTSTART;TZID=America/New_York:20240206T150000
DTEND;TZID=America/New_York:20240206T160000
DTSTAMP:20260424T051104
CREATED:20240123T213547Z
LAST-MODIFIED:20240206T154628Z
UID:10000511-1707231600-1707235200@valrc.org
SUMMARY:LACES Demo: Overview of the Student Record\, continued from January 9
DESCRIPTION:
URL:https://valrc.org/event/laces-demo-overview-of-the-student-record-continued-from-january-9/
CATEGORIES:Webinar
END:VEVENT
END:VCALENDAR