BEGIN:VCALENDAR
VERSION:2.0
PRODID:-//VALRC - ECPv6.15.17.1//NONSGML v1.0//EN
CALSCALE:GREGORIAN
METHOD:PUBLISH
X-ORIGINAL-URL:https://valrc.org
X-WR-CALDESC:Events for VALRC
REFRESH-INTERVAL;VALUE=DURATION:PT1H
X-Robots-Tag:noindex
X-PUBLISHED-TTL:PT1H
BEGIN:VTIMEZONE
TZID:America/New_York
BEGIN:DAYLIGHT
TZOFFSETFROM:-0500
TZOFFSETTO:-0400
TZNAME:EDT
DTSTART:20230312T070000
END:DAYLIGHT
BEGIN:STANDARD
TZOFFSETFROM:-0400
TZOFFSETTO:-0500
TZNAME:EST
DTSTART:20231105T060000
END:STANDARD
BEGIN:DAYLIGHT
TZOFFSETFROM:-0500
TZOFFSETTO:-0400
TZNAME:EDT
DTSTART:20240310T070000
END:DAYLIGHT
BEGIN:STANDARD
TZOFFSETFROM:-0400
TZOFFSETTO:-0500
TZNAME:EST
DTSTART:20241103T060000
END:STANDARD
BEGIN:DAYLIGHT
TZOFFSETFROM:-0500
TZOFFSETTO:-0400
TZNAME:EDT
DTSTART:20250309T070000
END:DAYLIGHT
BEGIN:STANDARD
TZOFFSETFROM:-0400
TZOFFSETTO:-0500
TZNAME:EST
DTSTART:20251102T060000
END:STANDARD
END:VTIMEZONE
BEGIN:VEVENT
DTSTART;TZID=America/New_York:20240924T153000
DTEND;TZID=America/New_York:20240924T170000
DTSTAMP:20260422T063103
CREATED:20240826T134135Z
LAST-MODIFIED:20240826T142553Z
UID:10000616-1727191800-1727197200@valrc.org
SUMMARY:VALRC: Lesson Planning for Adult ESOL Instruction
DESCRIPTION:Lesson planning is an important part of instruction but can also be overwhelming and time-consuming. Are you interested in learning and sharing strategies\, tips\, and templates for effective lesson planning? \nDuring this webinar\, we will discuss the importance and impact of lesson planning\, lesson plan routines and templates that support English language instruction\, important content and engaging activities to include in a lesson plan\, and how to create a lesson plan strategy. In addition\, participants will leave the webinar with customizable lesson plan templates and resources.  \nRegister Here
URL:https://valrc.org/event/valrc-lesson-planning-for-adult-esol-instruction/
LOCATION:Virtual
CATEGORIES:Webinar
END:VEVENT
END:VCALENDAR