BEGIN:VCALENDAR
VERSION:2.0
PRODID:-//VALRC - ECPv6.15.17.1//NONSGML v1.0//EN
CALSCALE:GREGORIAN
METHOD:PUBLISH
X-WR-CALNAME:VALRC
X-ORIGINAL-URL:https://valrc.org
X-WR-CALDESC:Events for VALRC
REFRESH-INTERVAL;VALUE=DURATION:PT1H
X-Robots-Tag:noindex
X-PUBLISHED-TTL:PT1H
BEGIN:VTIMEZONE
TZID:America/New_York
BEGIN:DAYLIGHT
TZOFFSETFROM:-0500
TZOFFSETTO:-0400
TZNAME:EDT
DTSTART:20230312T070000
END:DAYLIGHT
BEGIN:STANDARD
TZOFFSETFROM:-0400
TZOFFSETTO:-0500
TZNAME:EST
DTSTART:20231105T060000
END:STANDARD
BEGIN:DAYLIGHT
TZOFFSETFROM:-0500
TZOFFSETTO:-0400
TZNAME:EDT
DTSTART:20240310T070000
END:DAYLIGHT
BEGIN:STANDARD
TZOFFSETFROM:-0400
TZOFFSETTO:-0500
TZNAME:EST
DTSTART:20241103T060000
END:STANDARD
BEGIN:DAYLIGHT
TZOFFSETFROM:-0500
TZOFFSETTO:-0400
TZNAME:EDT
DTSTART:20250309T070000
END:DAYLIGHT
BEGIN:STANDARD
TZOFFSETFROM:-0400
TZOFFSETTO:-0500
TZNAME:EST
DTSTART:20251102T060000
END:STANDARD
END:VTIMEZONE
BEGIN:VEVENT
DTSTART;TZID=America/New_York:20240404T150000
DTEND;TZID=America/New_York:20240404T170000
DTSTAMP:20260422T020101
CREATED:20240227T165448Z
LAST-MODIFIED:20240227T165448Z
UID:10000536-1712242800-1712250000@valrc.org
SUMMARY:VALRC Beginning Literacy Webinar Series: Contextualized Phonics Instruction
DESCRIPTION:This webinar will present strategies for contextualizing phonics instruction in the ESOL beginning literacy or multilevel classroom as well as during one-on-one tutoring sessions. We will discuss strategies for contextualizing phonics instruction and walk through the steps of implementing this strategy in different ESOL instructional settings as well as connections between this approach and the science of reading. Participants will leave the webinar with an understanding of this approach\, how it benefits ESOL beginning literacy instruction\, and strategies for implementing this approach in the adult ESOL classroom. \nRegister Here
URL:https://valrc.org/event/valrc-beginning-literacy-webinar-series-contextualized-phonics-instruction/
LOCATION:Virtual
CATEGORIES:Webinar
END:VEVENT
END:VCALENDAR