BEGIN:VCALENDAR
VERSION:2.0
PRODID:-//VALRC - ECPv6.15.17.1//NONSGML v1.0//EN
CALSCALE:GREGORIAN
METHOD:PUBLISH
X-WR-CALNAME:VALRC
X-ORIGINAL-URL:https://valrc.org
X-WR-CALDESC:Events for VALRC
REFRESH-INTERVAL;VALUE=DURATION:PT1H
X-Robots-Tag:noindex
X-PUBLISHED-TTL:PT1H
BEGIN:VTIMEZONE
TZID:America/New_York
BEGIN:DAYLIGHT
TZOFFSETFROM:-0500
TZOFFSETTO:-0400
TZNAME:EDT
DTSTART:20230312T070000
END:DAYLIGHT
BEGIN:STANDARD
TZOFFSETFROM:-0400
TZOFFSETTO:-0500
TZNAME:EST
DTSTART:20231105T060000
END:STANDARD
BEGIN:DAYLIGHT
TZOFFSETFROM:-0500
TZOFFSETTO:-0400
TZNAME:EDT
DTSTART:20240310T070000
END:DAYLIGHT
BEGIN:STANDARD
TZOFFSETFROM:-0400
TZOFFSETTO:-0500
TZNAME:EST
DTSTART:20241103T060000
END:STANDARD
BEGIN:DAYLIGHT
TZOFFSETFROM:-0500
TZOFFSETTO:-0400
TZNAME:EDT
DTSTART:20250309T070000
END:DAYLIGHT
BEGIN:STANDARD
TZOFFSETFROM:-0400
TZOFFSETTO:-0500
TZNAME:EST
DTSTART:20251102T060000
END:STANDARD
END:VTIMEZONE
BEGIN:VEVENT
DTSTART;TZID=America/New_York:20240321T150000
DTEND;TZID=America/New_York:20240321T170000
DTSTAMP:20260422T003310
CREATED:20240212T214500Z
LAST-MODIFIED:20240222T152747Z
UID:10000529-1711033200-1711040400@valrc.org
SUMMARY:VALRC ESOL Beginning Literacy Webinar Series: Using the Language Experience Approach to Integrate the Components of Reading
DESCRIPTION:Do you work with adult ESOL learners who are building their literacy skills? Are you looking for an engaging and asset-based approach to ESOL beginning literacy instruction that allows for the integration of all four components of reading? \nThis webinar will present strategies for utilizing the language experience approach (LEA) in the ESOL educational setting as a strategy for integrating all four components of reading–alphabetics\, vocabulary\, fluency\, and comprehension–into instruction. We will discuss LEA\, walk through the steps of implementing it\, and look at strategies for using the student-generated text for activities related to all four components of reading. Participants will leave the webinar with an understanding of the language experience approach\, how it benefits ESOL beginning literacy instruction\, and strategies for implementing this strategy in the adult ESOL classroom. The resources will include options for ESOL beginning literacy curricula and supplemental materials.  \nRegister Here
URL:https://valrc.org/event/valrc-esol-beginning-literacy-webinar-series-using-the-language-experience-approach-to-integrate-the-components-of-reading/
LOCATION:Virtual
CATEGORIES:Webinar
END:VEVENT
END:VCALENDAR