BEGIN:VCALENDAR
VERSION:2.0
PRODID:-//VALRC - ECPv6.15.17.1//NONSGML v1.0//EN
CALSCALE:GREGORIAN
METHOD:PUBLISH
X-ORIGINAL-URL:https://valrc.org
X-WR-CALDESC:Events for VALRC
REFRESH-INTERVAL;VALUE=DURATION:PT1H
X-Robots-Tag:noindex
X-PUBLISHED-TTL:PT1H
BEGIN:VTIMEZONE
TZID:America/New_York
BEGIN:DAYLIGHT
TZOFFSETFROM:-0500
TZOFFSETTO:-0400
TZNAME:EDT
DTSTART:20230312T070000
END:DAYLIGHT
BEGIN:STANDARD
TZOFFSETFROM:-0400
TZOFFSETTO:-0500
TZNAME:EST
DTSTART:20231105T060000
END:STANDARD
BEGIN:DAYLIGHT
TZOFFSETFROM:-0500
TZOFFSETTO:-0400
TZNAME:EDT
DTSTART:20240310T070000
END:DAYLIGHT
BEGIN:STANDARD
TZOFFSETFROM:-0400
TZOFFSETTO:-0500
TZNAME:EST
DTSTART:20241103T060000
END:STANDARD
BEGIN:DAYLIGHT
TZOFFSETFROM:-0500
TZOFFSETTO:-0400
TZNAME:EDT
DTSTART:20250309T070000
END:DAYLIGHT
BEGIN:STANDARD
TZOFFSETFROM:-0400
TZOFFSETTO:-0500
TZNAME:EST
DTSTART:20251102T060000
END:STANDARD
END:VTIMEZONE
BEGIN:VEVENT
DTSTART;TZID=America/New_York:20240209T130000
DTEND;TZID=America/New_York:20240209T143000
DTSTAMP:20260421T230712
CREATED:20240124T182429Z
LAST-MODIFIED:20240124T223614Z
UID:10000516-1707483600-1707489000@valrc.org
SUMMARY:EdTech Strategy Sessions: Integrating Digital Literacy Into the Classroom & Using Tech in Correctional Settings
DESCRIPTION:Integrating digital literacy into IET classrooms? Using tech in correctional settings? Sign us up! Susan Grochowski of Virginia’s Peninsula Regional Education Program and Mary Hayes from Workbay join the EdTech Center @WorldEducation for the next EdTech Strategy session to share their insights on these two topics. \nRegister here.
URL:https://valrc.org/event/edtech-strategy-sessions-grochowski/
LOCATION:Online
CATEGORIES:Webinar
END:VEVENT
END:VCALENDAR