BEGIN:VCALENDAR
VERSION:2.0
PRODID:-//VALRC - ECPv6.15.17.1//NONSGML v1.0//EN
CALSCALE:GREGORIAN
METHOD:PUBLISH
X-ORIGINAL-URL:https://valrc.org
X-WR-CALDESC:Events for VALRC
REFRESH-INTERVAL;VALUE=DURATION:PT1H
X-Robots-Tag:noindex
X-PUBLISHED-TTL:PT1H
BEGIN:VTIMEZONE
TZID:America/New_York
BEGIN:DAYLIGHT
TZOFFSETFROM:-0500
TZOFFSETTO:-0400
TZNAME:EDT
DTSTART:20230312T070000
END:DAYLIGHT
BEGIN:STANDARD
TZOFFSETFROM:-0400
TZOFFSETTO:-0500
TZNAME:EST
DTSTART:20231105T060000
END:STANDARD
BEGIN:DAYLIGHT
TZOFFSETFROM:-0500
TZOFFSETTO:-0400
TZNAME:EDT
DTSTART:20240310T070000
END:DAYLIGHT
BEGIN:STANDARD
TZOFFSETFROM:-0400
TZOFFSETTO:-0500
TZNAME:EST
DTSTART:20241103T060000
END:STANDARD
BEGIN:DAYLIGHT
TZOFFSETFROM:-0500
TZOFFSETTO:-0400
TZNAME:EDT
DTSTART:20250309T070000
END:DAYLIGHT
BEGIN:STANDARD
TZOFFSETFROM:-0400
TZOFFSETTO:-0500
TZNAME:EST
DTSTART:20251102T060000
END:STANDARD
END:VTIMEZONE
BEGIN:VEVENT
DTSTART;TZID=America/New_York:20240130T154500
DTEND;TZID=America/New_York:20240130T164500
DTSTAMP:20260421T214415
CREATED:20240122T201440Z
LAST-MODIFIED:20240122T201440Z
UID:10000510-1706629500-1706633100@valrc.org
SUMMARY:LINCS: Better Serving Deaf Learners in Adult Basic Education and English Language Acquisition Programs
DESCRIPTION:Join guest speakers Gemma Gabor and Tonya Stremlau from Gallaudet University’s English Language Institute and English Department in a conversation about best practices for serving Deaf learners with varying levels of literacy participating in Adult Basic Education (ABE) and English Language Acquisition (ELA) programs.  This impactful discussion will include ASL interpretation. Please bring your questions and experiences. Co-hosted by LINCS Learners with Disabilities and English Language Acquisition community groups. \nRegister here.
URL:https://valrc.org/event/lincs-better-serving-deaf-learners-in-adult-basic-education-and-english-language-acquisition-programs/
CATEGORIES:Webinar
END:VEVENT
END:VCALENDAR