BEGIN:VCALENDAR
VERSION:2.0
PRODID:-//VALRC - ECPv6.15.17.1//NONSGML v1.0//EN
CALSCALE:GREGORIAN
METHOD:PUBLISH
X-ORIGINAL-URL:https://valrc.org
X-WR-CALDESC:Events for VALRC
REFRESH-INTERVAL;VALUE=DURATION:PT1H
X-Robots-Tag:noindex
X-PUBLISHED-TTL:PT1H
BEGIN:VTIMEZONE
TZID:America/New_York
BEGIN:DAYLIGHT
TZOFFSETFROM:-0500
TZOFFSETTO:-0400
TZNAME:EDT
DTSTART:20230312T070000
END:DAYLIGHT
BEGIN:STANDARD
TZOFFSETFROM:-0400
TZOFFSETTO:-0500
TZNAME:EST
DTSTART:20231105T060000
END:STANDARD
BEGIN:DAYLIGHT
TZOFFSETFROM:-0500
TZOFFSETTO:-0400
TZNAME:EDT
DTSTART:20240310T070000
END:DAYLIGHT
BEGIN:STANDARD
TZOFFSETFROM:-0400
TZOFFSETTO:-0500
TZNAME:EST
DTSTART:20241103T060000
END:STANDARD
BEGIN:DAYLIGHT
TZOFFSETFROM:-0500
TZOFFSETTO:-0400
TZNAME:EDT
DTSTART:20250309T070000
END:DAYLIGHT
BEGIN:STANDARD
TZOFFSETFROM:-0400
TZOFFSETTO:-0500
TZNAME:EST
DTSTART:20251102T060000
END:STANDARD
END:VTIMEZONE
BEGIN:VEVENT
DTSTART;TZID=America/New_York:20240129T150000
DTEND;TZID=America/New_York:20240129T160000
DTSTAMP:20260421T214415
CREATED:20240122T200140Z
LAST-MODIFIED:20240122T200140Z
UID:10000509-1706540400-1706544000@valrc.org
SUMMARY:LINCS: The Legacies of Systemic Inequities
DESCRIPTION:Many stereotypical narratives exist for why adult literacy learners are unsuccessful in earning a high school diploma. Those narratives seldom include the systemic roots that lead to generational poverty and generational illiteracy. Join our presenter\, Greg Deegan of Teaching Cleveland\, as he highlights the origins of stereotypical narratives. Mr. Deegan with provide practitioners with useful strategies to adjust their personal dispositions/biases toward adult literacy learners\, and ways to support adult learners with stakeholders who misunderstand them. \nRegister here.
URL:https://valrc.org/event/lincs-the-legacies-of-systemic-inequities/
LOCATION:Online
CATEGORIES:Webinar
END:VEVENT
END:VCALENDAR