BEGIN:VCALENDAR
VERSION:2.0
PRODID:-//VALRC - ECPv6.15.17.1//NONSGML v1.0//EN
CALSCALE:GREGORIAN
METHOD:PUBLISH
X-ORIGINAL-URL:https://valrc.org
X-WR-CALDESC:Events for VALRC
REFRESH-INTERVAL;VALUE=DURATION:PT1H
X-Robots-Tag:noindex
X-PUBLISHED-TTL:PT1H
BEGIN:VTIMEZONE
TZID:America/New_York
BEGIN:DAYLIGHT
TZOFFSETFROM:-0500
TZOFFSETTO:-0400
TZNAME:EDT
DTSTART:20230312T070000
END:DAYLIGHT
BEGIN:STANDARD
TZOFFSETFROM:-0400
TZOFFSETTO:-0500
TZNAME:EST
DTSTART:20231105T060000
END:STANDARD
BEGIN:DAYLIGHT
TZOFFSETFROM:-0500
TZOFFSETTO:-0400
TZNAME:EDT
DTSTART:20240310T070000
END:DAYLIGHT
BEGIN:STANDARD
TZOFFSETFROM:-0400
TZOFFSETTO:-0500
TZNAME:EST
DTSTART:20241103T060000
END:STANDARD
BEGIN:DAYLIGHT
TZOFFSETFROM:-0500
TZOFFSETTO:-0400
TZNAME:EDT
DTSTART:20250309T070000
END:DAYLIGHT
BEGIN:STANDARD
TZOFFSETFROM:-0400
TZOFFSETTO:-0500
TZNAME:EST
DTSTART:20251102T060000
END:STANDARD
END:VTIMEZONE
BEGIN:VEVENT
DTSTART;TZID=America/New_York:20240109T150000
DTEND;TZID=America/New_York:20240109T163000
DTSTAMP:20260421T214453
CREATED:20231102T183051Z
LAST-MODIFIED:20231128T181355Z
UID:10000464-1704812400-1704817800@valrc.org
SUMMARY:LACES Demo Webinars
DESCRIPTION:As part of the statewide transition from SSWS to LACES by LiteracyPro for our adult education data management system\, Shannon Stangis will be providing webinars at the days and times below to preview some of the features and functionality of the new system. All are welcome to join the webinars which will be recorded and archived. We hope you can join!\n\nThe Zoom link may be used to join both sessions – there is no registration form. \n\nSave these dates:\n\nTuesday\, December 5\, 2023 at 3 pm EST \n \nTuesday\, January 9\, 2024 at 3 pm EST
URL:https://valrc.org/event/laces-demo-webinars/2024-01-09/
CATEGORIES:Webinar
END:VEVENT
END:VCALENDAR