BEGIN:VCALENDAR
VERSION:2.0
PRODID:-//VALRC - ECPv6.15.17.1//NONSGML v1.0//EN
CALSCALE:GREGORIAN
METHOD:PUBLISH
X-ORIGINAL-URL:https://valrc.org
X-WR-CALDESC:Events for VALRC
REFRESH-INTERVAL;VALUE=DURATION:PT1H
X-Robots-Tag:noindex
X-PUBLISHED-TTL:PT1H
BEGIN:VTIMEZONE
TZID:America/New_York
BEGIN:DAYLIGHT
TZOFFSETFROM:-0500
TZOFFSETTO:-0400
TZNAME:EDT
DTSTART:20220313T070000
END:DAYLIGHT
BEGIN:STANDARD
TZOFFSETFROM:-0400
TZOFFSETTO:-0500
TZNAME:EST
DTSTART:20221106T060000
END:STANDARD
BEGIN:DAYLIGHT
TZOFFSETFROM:-0500
TZOFFSETTO:-0400
TZNAME:EDT
DTSTART:20230312T070000
END:DAYLIGHT
BEGIN:STANDARD
TZOFFSETFROM:-0400
TZOFFSETTO:-0500
TZNAME:EST
DTSTART:20231105T060000
END:STANDARD
BEGIN:DAYLIGHT
TZOFFSETFROM:-0500
TZOFFSETTO:-0400
TZNAME:EDT
DTSTART:20240310T070000
END:DAYLIGHT
BEGIN:STANDARD
TZOFFSETFROM:-0400
TZOFFSETTO:-0500
TZNAME:EST
DTSTART:20241103T060000
END:STANDARD
END:VTIMEZONE
BEGIN:VEVENT
DTSTART;TZID=America/New_York:20231218T150000
DTEND;TZID=America/New_York:20231218T160000
DTSTAMP:20260421T202349
CREATED:20231211T165238Z
LAST-MODIFIED:20231211T165238Z
UID:10000481-1702911600-1702915200@valrc.org
SUMMARY:LINCS: Walking the Walk\, and Talking the Talk: One State's Work to Put DEI in Action
DESCRIPTION:Diversity\, equity\, and inclusion are the topics of conversation in many organizations\, but how do you go beyond words to action? During this session\, we will be joined by Evonne Peters\, Director\, and Karen Greaves\, Instruction and PD Specialist of Massachusetts’ SABES ELA Curriculum\, and Instruction PD Center\, as they share how their organization demonstrates its commitment to diversity\, equity\, and inclusion in adult education. \nRegister here.
URL:https://valrc.org/event/lincs-walking-the-walk-and-talking-the-talk-one-states-work-to-put-dei-in-action/
LOCATION:Online
CATEGORIES:Webinar
END:VEVENT
END:VCALENDAR