BEGIN:VCALENDAR
VERSION:2.0
PRODID:-//VALRC - ECPv6.15.17.1//NONSGML v1.0//EN
CALSCALE:GREGORIAN
METHOD:PUBLISH
X-ORIGINAL-URL:https://valrc.org
X-WR-CALDESC:Events for VALRC
REFRESH-INTERVAL;VALUE=DURATION:PT1H
X-Robots-Tag:noindex
X-PUBLISHED-TTL:PT1H
BEGIN:VTIMEZONE
TZID:America/New_York
BEGIN:DAYLIGHT
TZOFFSETFROM:-0500
TZOFFSETTO:-0400
TZNAME:EDT
DTSTART:20220313T070000
END:DAYLIGHT
BEGIN:STANDARD
TZOFFSETFROM:-0400
TZOFFSETTO:-0500
TZNAME:EST
DTSTART:20221106T060000
END:STANDARD
BEGIN:DAYLIGHT
TZOFFSETFROM:-0500
TZOFFSETTO:-0400
TZNAME:EDT
DTSTART:20230312T070000
END:DAYLIGHT
BEGIN:STANDARD
TZOFFSETFROM:-0400
TZOFFSETTO:-0500
TZNAME:EST
DTSTART:20231105T060000
END:STANDARD
BEGIN:DAYLIGHT
TZOFFSETFROM:-0500
TZOFFSETTO:-0400
TZNAME:EDT
DTSTART:20240310T070000
END:DAYLIGHT
BEGIN:STANDARD
TZOFFSETFROM:-0400
TZOFFSETTO:-0500
TZNAME:EST
DTSTART:20241103T060000
END:STANDARD
END:VTIMEZONE
BEGIN:VEVENT
DTSTART;TZID=America/New_York:20231215T120000
DTEND;TZID=America/New_York:20231215T130000
DTSTAMP:20260421T201927
CREATED:20231128T212913Z
LAST-MODIFIED:20231128T212913Z
UID:10000474-1702641600-1702645200@valrc.org
SUMMARY:LINCS: Partnering with Programs to Improve Student Outcomes in Rural America
DESCRIPTION:Are you interested to learn more about reaching rural students? Join the Professional Development LINCS Group and guest presenter Lori Looney of Partners for Rural Impact to deepen your understanding of the unique needs of rural students. Learn about grant-funded initiatives in rural America that intersect with adult education and explore innovative opportunities for adult education services in rural areas of the United States. \nRegister here.
URL:https://valrc.org/event/lincs-partnering-with-programs-to-improve-student-outcomes-in-rural-america/
LOCATION:Online
CATEGORIES:Webinar
END:VEVENT
BEGIN:VEVENT
DTSTART;TZID=America/New_York:20231215T130000
DTEND;TZID=America/New_York:20231215T143000
DTSTAMP:20260421T201927
CREATED:20231128T213100Z
LAST-MODIFIED:20231128T213100Z
UID:10000475-1702645200-1702650600@valrc.org
SUMMARY:EdTech Center @ World Education: EdTech Strategy Sessions: ChatGPT for ESOL
DESCRIPTION:During the December Strategy Session\, hear two lightning talks highlighting the practical ways adult educators are finding use for generative AI in the classroom. Yeonjai Rah has uncovered a variety of uses for ChatGPT in her ESOL class\, including strategies that help learners build AI awareness with language skills. When Shawn Chattin saw the disruption caused by generative AI in his work with international students\, he decided to focus on a more localized approach. In his new role at Literacy Pittsburgh\, he’s using GAI tools to leverage stories that draw from the local community and learners to promote language learning. Join the EdTech Center to hear their insights from 1-2:00 and don’t forget both speakers will be available in a breakout room from 2-2:30 to answer your questions and continue the conversation. You don’t want to miss this! \nRegister here.
URL:https://valrc.org/event/edtech-center-world-education-edtech-strategy-sessions-chatgpt-for-esol/
LOCATION:Online
CATEGORIES:Webinar
END:VEVENT
BEGIN:VEVENT
DTSTART;TZID=America/New_York:20231215T140000
DTEND;TZID=America/New_York:20231215T160000
DTSTAMP:20260421T201927
CREATED:20231128T213547Z
LAST-MODIFIED:20231128T213547Z
UID:10000476-1702648800-1702656000@valrc.org
SUMMARY:Literacy Minnesota: Reading Activities for Beginning Literacy and Beginning English Language Learners
DESCRIPTION:Teaching and tutoring very beginning level ESL readers can be intimidating for volunteers and professional teachers alike. Attend this webinar to get practical activities and ideas for one-on-one\, remote and in-person instruction with tech and no-tech options. Leave feeling ready to provide your learners with meaningful and effective reading activities. \nRegister here.
URL:https://valrc.org/event/literacy-minnesota-reading-activities-for-beginning-literacy-and-beginning-english-language-learners/
LOCATION:Online
CATEGORIES:Webinar
END:VEVENT
END:VCALENDAR