BEGIN:VCALENDAR
VERSION:2.0
PRODID:-//VALRC - ECPv6.15.17.1//NONSGML v1.0//EN
CALSCALE:GREGORIAN
METHOD:PUBLISH
X-WR-CALNAME:VALRC
X-ORIGINAL-URL:https://valrc.org
X-WR-CALDESC:Events for VALRC
REFRESH-INTERVAL;VALUE=DURATION:PT1H
X-Robots-Tag:noindex
X-PUBLISHED-TTL:PT1H
BEGIN:VTIMEZONE
TZID:America/New_York
BEGIN:DAYLIGHT
TZOFFSETFROM:-0500
TZOFFSETTO:-0400
TZNAME:EDT
DTSTART:20220313T070000
END:DAYLIGHT
BEGIN:STANDARD
TZOFFSETFROM:-0400
TZOFFSETTO:-0500
TZNAME:EST
DTSTART:20221106T060000
END:STANDARD
BEGIN:DAYLIGHT
TZOFFSETFROM:-0500
TZOFFSETTO:-0400
TZNAME:EDT
DTSTART:20230312T070000
END:DAYLIGHT
BEGIN:STANDARD
TZOFFSETFROM:-0400
TZOFFSETTO:-0500
TZNAME:EST
DTSTART:20231105T060000
END:STANDARD
BEGIN:DAYLIGHT
TZOFFSETFROM:-0500
TZOFFSETTO:-0400
TZNAME:EDT
DTSTART:20240310T070000
END:DAYLIGHT
BEGIN:STANDARD
TZOFFSETFROM:-0400
TZOFFSETTO:-0500
TZNAME:EST
DTSTART:20241103T060000
END:STANDARD
END:VTIMEZONE
BEGIN:VEVENT
DTSTART;TZID=America/New_York:20231213T150000
DTEND;TZID=America/New_York:20231213T160000
DTSTAMP:20260421T201847
CREATED:20231128T205343Z
LAST-MODIFIED:20231128T205343Z
UID:10000473-1702479600-1702483200@valrc.org
SUMMARY:LINCS: Elevating Learning with Infographics
DESCRIPTION:In today’s information-rich world\, effective communication of complex ideas is vital. Join the LINCS Science Community and discover the power of infographics as we explore crafting engaging and easily digestible visuals to convey educational concepts and learning outcomes. Explore examples and create your own infographics with us. \nRegister here.
URL:https://valrc.org/event/lincs-elevating-learning-with-infographics/
LOCATION:Online
CATEGORIES:Webinar
END:VEVENT
BEGIN:VEVENT
DTSTART;TZID=America/New_York:20231213T150000
DTEND;TZID=America/New_York:20231213T160000
DTSTAMP:20260421T201847
CREATED:20231205T172535Z
LAST-MODIFIED:20231205T183509Z
UID:10000479-1702479600-1702483200@valrc.org
SUMMARY:GEDTS: Mobile GED Testing: Expand the Reach of the Exam
DESCRIPTION:Every state has regions that could use better access to GED testing. Want to increase opportunities to test but have a fixed testing center? One solution might be to set up Mobile Testing.\nTune into this session to learn all the details of how Mobile Testing works\, how to put together a Mobile site\, and how to address common questions and concerns.\n\nAfter registering\, you will receive a confirmation email containing information about joining the webinar.\n\n*Please note that this is a GEDTS offering and not a VALRC offering. We are unable to assist in registration or to provide archives of the event.\n 
URL:https://valrc.org/event/mobile-ged-testing-expand-the-reach-of-the-exam/
LOCATION:Online
CATEGORIES:Webinar
END:VEVENT
END:VCALENDAR