BEGIN:VCALENDAR
VERSION:2.0
PRODID:-//VALRC - ECPv6.15.17.1//NONSGML v1.0//EN
CALSCALE:GREGORIAN
METHOD:PUBLISH
X-ORIGINAL-URL:https://valrc.org
X-WR-CALDESC:Events for VALRC
REFRESH-INTERVAL;VALUE=DURATION:PT1H
X-Robots-Tag:noindex
X-PUBLISHED-TTL:PT1H
BEGIN:VTIMEZONE
TZID:America/New_York
BEGIN:DAYLIGHT
TZOFFSETFROM:-0500
TZOFFSETTO:-0400
TZNAME:EDT
DTSTART:20220313T070000
END:DAYLIGHT
BEGIN:STANDARD
TZOFFSETFROM:-0400
TZOFFSETTO:-0500
TZNAME:EST
DTSTART:20221106T060000
END:STANDARD
BEGIN:DAYLIGHT
TZOFFSETFROM:-0500
TZOFFSETTO:-0400
TZNAME:EDT
DTSTART:20230312T070000
END:DAYLIGHT
BEGIN:STANDARD
TZOFFSETFROM:-0400
TZOFFSETTO:-0500
TZNAME:EST
DTSTART:20231105T060000
END:STANDARD
BEGIN:DAYLIGHT
TZOFFSETFROM:-0500
TZOFFSETTO:-0400
TZNAME:EDT
DTSTART:20240310T070000
END:DAYLIGHT
BEGIN:STANDARD
TZOFFSETFROM:-0400
TZOFFSETTO:-0500
TZNAME:EST
DTSTART:20241103T060000
END:STANDARD
END:VTIMEZONE
BEGIN:VEVENT
DTSTART;TZID=America/New_York:20231208T131500
DTEND;TZID=America/New_York:20231208T141500
DTSTAMP:20260421T202349
CREATED:20231128T204907Z
LAST-MODIFIED:20231128T204907Z
UID:10000471-1702041300-1702044900@valrc.org
SUMMARY:LINCS: Creating Accessible and Inclusive Learning Coffee Break: Reflections & Looking Ahead to 2024
DESCRIPTION:As we prepare to wind down 2024\, join the LINCS Learners with Disabilities Community to reflect upon your work to serve all learners in your program. What worked well and what could be improved upon as you move into 2024? Come to hear from others about their successes and challenges and share your own. Let’s share our resources to make 2024 even more accessible for adult learners! \nRegister here.
URL:https://valrc.org/event/lincs-creating-accessible-and-inclusive-learning-coffee-break-reflections-looking-ahead-to-2024/
LOCATION:Online
CATEGORIES:Webinar
END:VEVENT
END:VCALENDAR