BEGIN:VCALENDAR
VERSION:2.0
PRODID:-//VALRC - ECPv6.15.17.1//NONSGML v1.0//EN
CALSCALE:GREGORIAN
METHOD:PUBLISH
X-WR-CALNAME:VALRC
X-ORIGINAL-URL:https://valrc.org
X-WR-CALDESC:Events for VALRC
REFRESH-INTERVAL;VALUE=DURATION:PT1H
X-Robots-Tag:noindex
X-PUBLISHED-TTL:PT1H
BEGIN:VTIMEZONE
TZID:America/New_York
BEGIN:DAYLIGHT
TZOFFSETFROM:-0500
TZOFFSETTO:-0400
TZNAME:EDT
DTSTART:20220313T070000
END:DAYLIGHT
BEGIN:STANDARD
TZOFFSETFROM:-0400
TZOFFSETTO:-0500
TZNAME:EST
DTSTART:20221106T060000
END:STANDARD
BEGIN:DAYLIGHT
TZOFFSETFROM:-0500
TZOFFSETTO:-0400
TZNAME:EDT
DTSTART:20230312T070000
END:DAYLIGHT
BEGIN:STANDARD
TZOFFSETFROM:-0400
TZOFFSETTO:-0500
TZNAME:EST
DTSTART:20231105T060000
END:STANDARD
BEGIN:DAYLIGHT
TZOFFSETFROM:-0500
TZOFFSETTO:-0400
TZNAME:EDT
DTSTART:20240310T070000
END:DAYLIGHT
BEGIN:STANDARD
TZOFFSETFROM:-0400
TZOFFSETTO:-0500
TZNAME:EST
DTSTART:20241103T060000
END:STANDARD
END:VTIMEZONE
BEGIN:VEVENT
DTSTART;TZID=America/New_York:20231204T193000
DTEND;TZID=America/New_York:20231204T213000
DTSTAMP:20260421T202228
CREATED:20231128T181645Z
LAST-MODIFIED:20231128T181645Z
UID:10000467-1701718200-1701725400@valrc.org
SUMMARY:Literacy Minnesota: Comprehension Strategies for Intermediate-Level Readers
DESCRIPTION:Research shows that explicitly teaching a set of comprehension strategies is a great way to help intermediate-level readers maximize their understanding of texts. Come learn a handful of great comprehension tools that will help students develop critical thinking skills and comprehension skills. \nRegister here.
URL:https://valrc.org/event/literacy-minnesota-comprehension-strategies-for-intermediate-level-readers-2/
LOCATION:Online
CATEGORIES:Webinar
END:VEVENT
END:VCALENDAR