BEGIN:VCALENDAR
VERSION:2.0
PRODID:-//VALRC - ECPv6.15.17.1//NONSGML v1.0//EN
CALSCALE:GREGORIAN
METHOD:PUBLISH
X-WR-CALNAME:VALRC
X-ORIGINAL-URL:https://valrc.org
X-WR-CALDESC:Events for VALRC
REFRESH-INTERVAL;VALUE=DURATION:PT1H
X-Robots-Tag:noindex
X-PUBLISHED-TTL:PT1H
BEGIN:VTIMEZONE
TZID:America/New_York
BEGIN:DAYLIGHT
TZOFFSETFROM:-0500
TZOFFSETTO:-0400
TZNAME:EDT
DTSTART:20220313T070000
END:DAYLIGHT
BEGIN:STANDARD
TZOFFSETFROM:-0400
TZOFFSETTO:-0500
TZNAME:EST
DTSTART:20221106T060000
END:STANDARD
BEGIN:DAYLIGHT
TZOFFSETFROM:-0500
TZOFFSETTO:-0400
TZNAME:EDT
DTSTART:20230312T070000
END:DAYLIGHT
BEGIN:STANDARD
TZOFFSETFROM:-0400
TZOFFSETTO:-0500
TZNAME:EST
DTSTART:20231105T060000
END:STANDARD
BEGIN:DAYLIGHT
TZOFFSETFROM:-0500
TZOFFSETTO:-0400
TZNAME:EDT
DTSTART:20240310T070000
END:DAYLIGHT
BEGIN:STANDARD
TZOFFSETFROM:-0400
TZOFFSETTO:-0500
TZNAME:EST
DTSTART:20241103T060000
END:STANDARD
END:VTIMEZONE
BEGIN:VEVENT
DTSTART;TZID=America/New_York:20231128T130000
DTEND;TZID=America/New_York:20231128T143000
DTSTAMP:20260421T184529
CREATED:20230828T152956Z
LAST-MODIFIED:20230911T144939Z
UID:10000413-1701176400-1701181800@valrc.org
SUMMARY:VALRC: Disabilities and the Adult Learner Webinar Series\, Session 3: Making Content Accessible
DESCRIPTION:Creating accessible content can feel overwhelming at times\, but it is important to remember that not everything has to be done at once. A scaffolded approach to learning and implementation can make the process more manageable. Even a few key changes can make a difference. In the beginning\, the aim is not perfection\, but improvement. This session covers some of the main accessibility barriers such as headers\, images\, and hyperlinks. \nRegister
URL:https://valrc.org/event/disabilities-and-the-adult-learner-webinar-series-session-3-making-content-accessible/
CATEGORIES:Webinar
END:VEVENT
END:VCALENDAR