BEGIN:VCALENDAR
VERSION:2.0
PRODID:-//VALRC - ECPv6.15.17.1//NONSGML v1.0//EN
CALSCALE:GREGORIAN
METHOD:PUBLISH
X-ORIGINAL-URL:https://valrc.org
X-WR-CALDESC:Events for VALRC
REFRESH-INTERVAL;VALUE=DURATION:PT1H
X-Robots-Tag:noindex
X-PUBLISHED-TTL:PT1H
BEGIN:VTIMEZONE
TZID:America/New_York
BEGIN:DAYLIGHT
TZOFFSETFROM:-0500
TZOFFSETTO:-0400
TZNAME:EDT
DTSTART:20220313T070000
END:DAYLIGHT
BEGIN:STANDARD
TZOFFSETFROM:-0400
TZOFFSETTO:-0500
TZNAME:EST
DTSTART:20221106T060000
END:STANDARD
BEGIN:DAYLIGHT
TZOFFSETFROM:-0500
TZOFFSETTO:-0400
TZNAME:EDT
DTSTART:20230312T070000
END:DAYLIGHT
BEGIN:STANDARD
TZOFFSETFROM:-0400
TZOFFSETTO:-0500
TZNAME:EST
DTSTART:20231105T060000
END:STANDARD
BEGIN:DAYLIGHT
TZOFFSETFROM:-0500
TZOFFSETTO:-0400
TZNAME:EDT
DTSTART:20240310T070000
END:DAYLIGHT
BEGIN:STANDARD
TZOFFSETFROM:-0400
TZOFFSETTO:-0500
TZNAME:EST
DTSTART:20241103T060000
END:STANDARD
END:VTIMEZONE
BEGIN:VEVENT
DTSTART;TZID=America/New_York:20231114T150000
DTEND;TZID=America/New_York:20231114T163000
DTSTAMP:20260421T184728
CREATED:20230804T160413Z
LAST-MODIFIED:20230830T153840Z
UID:10000403-1699974000-1699979400@valrc.org
SUMMARY:VALRC: Digital Literacy for Multilingual Learners Webinar Series\, Session 3: Virtual Instruction for Beginning Multilingual Learners
DESCRIPTION:Do you facilitate online classes for learners who are just beginning to develop their English skills? How can you create language learning opportunities for learners using technology AND English for the first time?  \nThis webinar is designed to provide effective and engaging strategies for English practice during online classes. Participants will discuss features of communications platforms\, presentation software\,  specific apps and websites that can support language learning opportunities in the online classroom. They will collaborate to choose activities for different parts of a lesson plan.  \nThis webinar is meant for online instructors of beginning level multilingual learners. They will receive resources for use with online classes including recommended Open Educational Resources (OER) from CrowdED Learning and Skillblox. \nObjectives: \n\nUnderstand basic features of communications platforms\nDiscuss presentation software\, and a selection of apps and websites\nCollaborate to create a an effective lesson plan for beginners supported by a variety of resources\n\nRegister Here
URL:https://valrc.org/event/digital-literacy-for-multilingual-learners-webinar-series-session-3-virtual-instruction-for-beginning-multilingual-learners/
LOCATION:Virtual
CATEGORIES:Webinar
END:VEVENT
END:VCALENDAR