BEGIN:VCALENDAR
VERSION:2.0
PRODID:-//VALRC - ECPv6.15.17.1//NONSGML v1.0//EN
CALSCALE:GREGORIAN
METHOD:PUBLISH
X-ORIGINAL-URL:https://valrc.org
X-WR-CALDESC:Events for VALRC
REFRESH-INTERVAL;VALUE=DURATION:PT1H
X-Robots-Tag:noindex
X-PUBLISHED-TTL:PT1H
BEGIN:VTIMEZONE
TZID:America/New_York
BEGIN:DAYLIGHT
TZOFFSETFROM:-0500
TZOFFSETTO:-0400
TZNAME:EDT
DTSTART:20220313T070000
END:DAYLIGHT
BEGIN:STANDARD
TZOFFSETFROM:-0400
TZOFFSETTO:-0500
TZNAME:EST
DTSTART:20221106T060000
END:STANDARD
BEGIN:DAYLIGHT
TZOFFSETFROM:-0500
TZOFFSETTO:-0400
TZNAME:EDT
DTSTART:20230312T070000
END:DAYLIGHT
BEGIN:STANDARD
TZOFFSETFROM:-0400
TZOFFSETTO:-0500
TZNAME:EST
DTSTART:20231105T060000
END:STANDARD
BEGIN:DAYLIGHT
TZOFFSETFROM:-0500
TZOFFSETTO:-0400
TZNAME:EDT
DTSTART:20240310T070000
END:DAYLIGHT
BEGIN:STANDARD
TZOFFSETFROM:-0400
TZOFFSETTO:-0500
TZNAME:EST
DTSTART:20241103T060000
END:STANDARD
END:VTIMEZONE
BEGIN:VEVENT
DTSTART;TZID=America/New_York:20231030T193000
DTEND;TZID=America/New_York:20231030T213000
DTSTAMP:20260421T171200
CREATED:20231010T211303Z
LAST-MODIFIED:20231010T211303Z
UID:10000455-1698694200-1698701400@valrc.org
SUMMARY:Literacy Minnesota: How to Work Effectively with Muslims
DESCRIPTION:Join Jaylani Hussein of CAIR (Council on American-Islamic Relations) MN for a proactive diversity training that bridges the gap of misunderstanding and provides resources to employers\, attorneys\, community leaders and educators. First\, the presentation will open with a brief introduction on how to effectively work with Muslim learners by bringing awareness and eliminating a potential bias. The second segment highlights Muslim demographics worldwide\, in the United States and in Minnesota. The third part of this presentation will include how to provide religious accommodations in an educational setting. It emphasizes: a) the main practices for which school staff should expect a request for accommodation and b) practices to be mindful of when interacting with Muslim learners. \nRegister here.
URL:https://valrc.org/event/literacy-minnesota-how-to-work-effectively-with-muslims/
LOCATION:Virtual
CATEGORIES:Webinar
END:VEVENT
END:VCALENDAR