BEGIN:VCALENDAR
VERSION:2.0
PRODID:-//VALRC - ECPv6.15.17.1//NONSGML v1.0//EN
CALSCALE:GREGORIAN
METHOD:PUBLISH
X-ORIGINAL-URL:https://valrc.org
X-WR-CALDESC:Events for VALRC
REFRESH-INTERVAL;VALUE=DURATION:PT1H
X-Robots-Tag:noindex
X-PUBLISHED-TTL:PT1H
BEGIN:VTIMEZONE
TZID:America/New_York
BEGIN:DAYLIGHT
TZOFFSETFROM:-0500
TZOFFSETTO:-0400
TZNAME:EDT
DTSTART:20220313T070000
END:DAYLIGHT
BEGIN:STANDARD
TZOFFSETFROM:-0400
TZOFFSETTO:-0500
TZNAME:EST
DTSTART:20221106T060000
END:STANDARD
BEGIN:DAYLIGHT
TZOFFSETFROM:-0500
TZOFFSETTO:-0400
TZNAME:EDT
DTSTART:20230312T070000
END:DAYLIGHT
BEGIN:STANDARD
TZOFFSETFROM:-0400
TZOFFSETTO:-0500
TZNAME:EST
DTSTART:20231105T060000
END:STANDARD
BEGIN:DAYLIGHT
TZOFFSETFROM:-0500
TZOFFSETTO:-0400
TZNAME:EDT
DTSTART:20240310T070000
END:DAYLIGHT
BEGIN:STANDARD
TZOFFSETFROM:-0400
TZOFFSETTO:-0500
TZNAME:EST
DTSTART:20241103T060000
END:STANDARD
END:VTIMEZONE
BEGIN:VEVENT
DTSTART;TZID=America/New_York:20231027T140000
DTEND;TZID=America/New_York:20231027T160000
DTSTAMP:20260421T171212
CREATED:20231010T211048Z
LAST-MODIFIED:20231010T211048Z
UID:10000454-1698415200-1698422400@valrc.org
SUMMARY:Literacy Minnesota: Essential Zoom Skills for Online Instruction
DESCRIPTION:Join this hands-on session to learn and practice essential Zoom skills for the virtual classroom that may not be in your repertoire if your experience with the platform is limited to meetings with friends and colleagues at work. The workshop will cover: \n\nTurning off participants’ cameras and microphones.\nRe-naming participants.\nSharing your screen.\nAnnotating your screen.\nSetting up and visiting breakout rooms.\n\nRegister here.
URL:https://valrc.org/event/literacy-minnesota-essential-zoom-skills-for-online-instruction/
LOCATION:Virtual
CATEGORIES:Webinar
END:VEVENT
END:VCALENDAR