BEGIN:VCALENDAR
VERSION:2.0
PRODID:-//VALRC - ECPv6.15.17.1//NONSGML v1.0//EN
CALSCALE:GREGORIAN
METHOD:PUBLISH
X-ORIGINAL-URL:https://valrc.org
X-WR-CALDESC:Events for VALRC
REFRESH-INTERVAL;VALUE=DURATION:PT1H
X-Robots-Tag:noindex
X-PUBLISHED-TTL:PT1H
BEGIN:VTIMEZONE
TZID:America/New_York
BEGIN:DAYLIGHT
TZOFFSETFROM:-0500
TZOFFSETTO:-0400
TZNAME:EDT
DTSTART:20220313T070000
END:DAYLIGHT
BEGIN:STANDARD
TZOFFSETFROM:-0400
TZOFFSETTO:-0500
TZNAME:EST
DTSTART:20221106T060000
END:STANDARD
BEGIN:DAYLIGHT
TZOFFSETFROM:-0500
TZOFFSETTO:-0400
TZNAME:EDT
DTSTART:20230312T070000
END:DAYLIGHT
BEGIN:STANDARD
TZOFFSETFROM:-0400
TZOFFSETTO:-0500
TZNAME:EST
DTSTART:20231105T060000
END:STANDARD
BEGIN:DAYLIGHT
TZOFFSETFROM:-0500
TZOFFSETTO:-0400
TZNAME:EDT
DTSTART:20240310T070000
END:DAYLIGHT
BEGIN:STANDARD
TZOFFSETFROM:-0400
TZOFFSETTO:-0500
TZNAME:EST
DTSTART:20241103T060000
END:STANDARD
END:VTIMEZONE
BEGIN:VEVENT
DTSTART;TZID=America/New_York:20231009T160000
DTEND;TZID=America/New_York:20231009T170000
DTSTAMP:20260421T171238
CREATED:20231005T183241Z
LAST-MODIFIED:20231005T183241Z
UID:10000445-1696867200-1696870800@valrc.org
SUMMARY:LINCS: Celebrating National Disability Employment Awareness Month with the Job Accommodations Network (JAN)
DESCRIPTION:Join the LINCS Learners with Disabilities community to celebrate National Disability Employment Awareness Month (NDEAM). This event will include an overview of the Americans with Disabilities Act (ADA) and workplace accommodations. You will learn about the Job Accommodation Network (JAN) service\, and practical tips for supporting learners to use JAN resources to request and negotiate workplace accommodations. \nRegister here.
URL:https://valrc.org/event/lincs-celebrating-national-disability-employment-awareness-month-with-the-job-accommodations-network-jan/
CATEGORIES:Webinar
END:VEVENT
BEGIN:VEVENT
DTSTART;TZID=America/New_York:20231009T193000
DTEND;TZID=America/New_York:20231009T213000
DTSTAMP:20260421T171238
CREATED:20231005T183537Z
LAST-MODIFIED:20231005T183537Z
UID:10000446-1696879800-1696887000@valrc.org
SUMMARY:Literacy Minnesota: Tips and Strategies for Adult Education Math Tutors
DESCRIPTION:Join Literacy Minnesota for this interactive session and pick up some ideas that will maximize your impact as a math tutor. This webinar will be appropriate for volunteers assisting a teacher in a math classroom as well as those leading their own classes\, small groups or one-to-one sessions. Topics covered will include: \n\nLevels of Math Knowing\nProcedural vs Conceptual Understanding\nStrategies for Fostering Independent Learning\nAsking Facilitating Questions\nProductive Struggle\n\nRegister here.
URL:https://valrc.org/event/literacy-minnesota-tips-and-strategies-for-adult-education-math-tutors/
CATEGORIES:Webinar
END:VEVENT
END:VCALENDAR