BEGIN:VCALENDAR
VERSION:2.0
PRODID:-//VALRC - ECPv6.15.17.1//NONSGML v1.0//EN
CALSCALE:GREGORIAN
METHOD:PUBLISH
X-ORIGINAL-URL:https://valrc.org
X-WR-CALDESC:Events for VALRC
REFRESH-INTERVAL;VALUE=DURATION:PT1H
X-Robots-Tag:noindex
X-PUBLISHED-TTL:PT1H
BEGIN:VTIMEZONE
TZID:America/New_York
BEGIN:DAYLIGHT
TZOFFSETFROM:-0500
TZOFFSETTO:-0400
TZNAME:EDT
DTSTART:20220313T070000
END:DAYLIGHT
BEGIN:STANDARD
TZOFFSETFROM:-0400
TZOFFSETTO:-0500
TZNAME:EST
DTSTART:20221106T060000
END:STANDARD
BEGIN:DAYLIGHT
TZOFFSETFROM:-0500
TZOFFSETTO:-0400
TZNAME:EDT
DTSTART:20230312T070000
END:DAYLIGHT
BEGIN:STANDARD
TZOFFSETFROM:-0400
TZOFFSETTO:-0500
TZNAME:EST
DTSTART:20231105T060000
END:STANDARD
BEGIN:DAYLIGHT
TZOFFSETFROM:-0500
TZOFFSETTO:-0400
TZNAME:EDT
DTSTART:20240310T070000
END:DAYLIGHT
BEGIN:STANDARD
TZOFFSETFROM:-0400
TZOFFSETTO:-0500
TZNAME:EST
DTSTART:20241103T060000
END:STANDARD
END:VTIMEZONE
BEGIN:VEVENT
DTSTART;TZID=America/New_York:20231005T150000
DTEND;TZID=America/New_York:20231005T163000
DTSTAMP:20260421T171213
CREATED:20230914T190145Z
LAST-MODIFIED:20230914T190606Z
UID:10000444-1696518000-1696523400@valrc.org
SUMMARY:VALRC: Lessons from the Field with Steven Reid: ESOL Basics with Preliterate Adult Learners
DESCRIPTION:English language learners who come to the U.S. with no literacy in their first language have unique struggles in learning English. This webinar helps educators understand what these learners are going through and provides tips and ideas for creating lessons for students who speak no English and are not literate in any other language.  \nFacilitator Steven Reid says\, “The limited research that exists on preliterate English language learners primarily focuses on youth under the age of 15. My work recently has focused on how to support teachers and tutors working with adults with little-to-no literacy in their first language (L1). Through academic research and observation of our students and tutors’ successes and struggles\, I have compiled strategies and activities to help educators working with preliterate adults trying to learn to speak\, read\, and write in English. I will also discuss the causes of low L1 literacy and how this impacts L2 acquisition.”  \nRegister Here
URL:https://valrc.org/event/lff-reid-preliterate-esol-basics/
CATEGORIES:Webinar
END:VEVENT
END:VCALENDAR