BEGIN:VCALENDAR
VERSION:2.0
PRODID:-//VALRC - ECPv6.15.17.1//NONSGML v1.0//EN
CALSCALE:GREGORIAN
METHOD:PUBLISH
X-WR-CALNAME:VALRC
X-ORIGINAL-URL:https://valrc.org
X-WR-CALDESC:Events for VALRC
REFRESH-INTERVAL;VALUE=DURATION:PT1H
X-Robots-Tag:noindex
X-PUBLISHED-TTL:PT1H
BEGIN:VTIMEZONE
TZID:America/New_York
BEGIN:DAYLIGHT
TZOFFSETFROM:-0500
TZOFFSETTO:-0400
TZNAME:EDT
DTSTART:20220313T070000
END:DAYLIGHT
BEGIN:STANDARD
TZOFFSETFROM:-0400
TZOFFSETTO:-0500
TZNAME:EST
DTSTART:20221106T060000
END:STANDARD
BEGIN:DAYLIGHT
TZOFFSETFROM:-0500
TZOFFSETTO:-0400
TZNAME:EDT
DTSTART:20230312T070000
END:DAYLIGHT
BEGIN:STANDARD
TZOFFSETFROM:-0400
TZOFFSETTO:-0500
TZNAME:EST
DTSTART:20231105T060000
END:STANDARD
BEGIN:DAYLIGHT
TZOFFSETFROM:-0500
TZOFFSETTO:-0400
TZNAME:EDT
DTSTART:20240310T070000
END:DAYLIGHT
BEGIN:STANDARD
TZOFFSETFROM:-0400
TZOFFSETTO:-0500
TZNAME:EST
DTSTART:20241103T060000
END:STANDARD
END:VTIMEZONE
BEGIN:VEVENT
DTSTART;TZID=America/New_York:20230922T154500
DTEND;TZID=America/New_York:20230922T170000
DTSTAMP:20260421T154553
CREATED:20230912T180544Z
LAST-MODIFIED:20230912T180544Z
UID:10000442-1695397500-1695402000@valrc.org
SUMMARY:LINCS: Introducing the LINCS Universal Design for Learning Modules
DESCRIPTION:Description: Join us to learn about the new LINCS UDL modules focused on practices and strategies for supporting adults with learning challenges. We’ll also share resources and ideas for programs to create opportunities for learners to disclose their challenges during the intake and assessment processes. Please bring your questions\, challenges\, and ideas! \nPresenter: Mike Cruse\, LINCS Learners with Disabilities Group Moderator and Amanda Bastoni\, CAST\, Inc. \nDate/Time: Tuesday\, September 22\, 2023\, 3:45 PM ET (live session) \nLINCS Community Group: Learners with Disabilities \nOnline registration is required to participate in the LINCS Event for Introducing the LINCS Universal Design for Learning Modules.
URL:https://valrc.org/event/lincs-introducing-the-lincs-universal-design-for-learning-modules/
CATEGORIES:Webinar
END:VEVENT
END:VCALENDAR