BEGIN:VCALENDAR
VERSION:2.0
PRODID:-//VALRC - ECPv6.15.17.1//NONSGML v1.0//EN
CALSCALE:GREGORIAN
METHOD:PUBLISH
X-ORIGINAL-URL:https://valrc.org
X-WR-CALDESC:Events for VALRC
REFRESH-INTERVAL;VALUE=DURATION:PT1H
X-Robots-Tag:noindex
X-PUBLISHED-TTL:PT1H
BEGIN:VTIMEZONE
TZID:America/New_York
BEGIN:DAYLIGHT
TZOFFSETFROM:-0500
TZOFFSETTO:-0400
TZNAME:EDT
DTSTART:20220313T070000
END:DAYLIGHT
BEGIN:STANDARD
TZOFFSETFROM:-0400
TZOFFSETTO:-0500
TZNAME:EST
DTSTART:20221106T060000
END:STANDARD
BEGIN:DAYLIGHT
TZOFFSETFROM:-0500
TZOFFSETTO:-0400
TZNAME:EDT
DTSTART:20230312T070000
END:DAYLIGHT
BEGIN:STANDARD
TZOFFSETFROM:-0400
TZOFFSETTO:-0500
TZNAME:EST
DTSTART:20231105T060000
END:STANDARD
BEGIN:DAYLIGHT
TZOFFSETFROM:-0500
TZOFFSETTO:-0400
TZNAME:EDT
DTSTART:20240310T070000
END:DAYLIGHT
BEGIN:STANDARD
TZOFFSETFROM:-0400
TZOFFSETTO:-0500
TZNAME:EST
DTSTART:20241103T060000
END:STANDARD
END:VTIMEZONE
BEGIN:VEVENT
DTSTART;TZID=America/New_York:20230918T150000
DTEND;TZID=America/New_York:20230918T160000
DTSTAMP:20260421T154813
CREATED:20230912T180732Z
LAST-MODIFIED:20230912T180750Z
UID:10000443-1695049200-1695052800@valrc.org
SUMMARY:LINCS AEFLA Week Virtual Celebration
DESCRIPTION:Live Session: AEFL Week Virtual Celebration \nDescription: Join us to celebrate Adult and Family Literacy Week by sharing your student success stories and positive changes in your program from the past year. \nPresenter: Erin Vobornik\, LINCS Teaching and Learning Group Moderator; Lizelena Iglesias\, LINCS Science Group Moderator \nDate/Time: Monday\, September 18\, 2023\, 3:00 PM ET (live session) \nLINCS Community Group: Teaching and Learning \nOnline registration is required to participate in the LINCS Event for AEFL Week Virtual Celebration.
URL:https://valrc.org/event/lincs-aefla-week-virtual-celebration/
CATEGORIES:Webinar
END:VEVENT
END:VCALENDAR