BEGIN:VCALENDAR
VERSION:2.0
PRODID:-//VALRC - ECPv6.15.17.1//NONSGML v1.0//EN
CALSCALE:GREGORIAN
METHOD:PUBLISH
X-WR-CALNAME:VALRC
X-ORIGINAL-URL:https://valrc.org
X-WR-CALDESC:Events for VALRC
REFRESH-INTERVAL;VALUE=DURATION:PT1H
X-Robots-Tag:noindex
X-PUBLISHED-TTL:PT1H
BEGIN:VTIMEZONE
TZID:America/New_York
BEGIN:DAYLIGHT
TZOFFSETFROM:-0500
TZOFFSETTO:-0400
TZNAME:EDT
DTSTART:20220313T070000
END:DAYLIGHT
BEGIN:STANDARD
TZOFFSETFROM:-0400
TZOFFSETTO:-0500
TZNAME:EST
DTSTART:20221106T060000
END:STANDARD
BEGIN:DAYLIGHT
TZOFFSETFROM:-0500
TZOFFSETTO:-0400
TZNAME:EDT
DTSTART:20230312T070000
END:DAYLIGHT
BEGIN:STANDARD
TZOFFSETFROM:-0400
TZOFFSETTO:-0500
TZNAME:EST
DTSTART:20231105T060000
END:STANDARD
BEGIN:DAYLIGHT
TZOFFSETFROM:-0500
TZOFFSETTO:-0400
TZNAME:EDT
DTSTART:20240310T070000
END:DAYLIGHT
BEGIN:STANDARD
TZOFFSETFROM:-0400
TZOFFSETTO:-0500
TZNAME:EST
DTSTART:20241103T060000
END:STANDARD
END:VTIMEZONE
BEGIN:VEVENT
DTSTART;TZID=America/New_York:20230913T153000
DTEND;TZID=America/New_York:20230913T163000
DTSTAMP:20260421T154544
CREATED:20230830T153442Z
LAST-MODIFIED:20230830T153442Z
UID:10000416-1694619000-1694622600@valrc.org
SUMMARY:VALRC: Reading\, Writing\, and Relevance: Teaching with Adult Learners’ Published Writing
DESCRIPTION:In this webinar\, find out how to access SPOTLIGHT\, Virginia’s annual publication for writing by adult learners\, and The Change Agent adult education magazine for social justice. Gain ideas for using writing by adult learners to teach reading and language skills at multiple levels\, as models to guide learners through the writing process\, to combat learners’ writing anxieties\, and to amplify student voice. \nRegister here.
URL:https://valrc.org/event/valrc-reading-writing-and-relevance-teaching-with-adult-learners-published-writing/
CATEGORIES:Webinar
END:VEVENT
END:VCALENDAR