BEGIN:VCALENDAR
VERSION:2.0
PRODID:-//VALRC - ECPv6.15.17.1//NONSGML v1.0//EN
CALSCALE:GREGORIAN
METHOD:PUBLISH
X-WR-CALNAME:VALRC
X-ORIGINAL-URL:https://valrc.org
X-WR-CALDESC:Events for VALRC
REFRESH-INTERVAL;VALUE=DURATION:PT1H
X-Robots-Tag:noindex
X-PUBLISHED-TTL:PT1H
BEGIN:VTIMEZONE
TZID:America/New_York
BEGIN:DAYLIGHT
TZOFFSETFROM:-0500
TZOFFSETTO:-0400
TZNAME:EDT
DTSTART:20220313T070000
END:DAYLIGHT
BEGIN:STANDARD
TZOFFSETFROM:-0400
TZOFFSETTO:-0500
TZNAME:EST
DTSTART:20221106T060000
END:STANDARD
BEGIN:DAYLIGHT
TZOFFSETFROM:-0500
TZOFFSETTO:-0400
TZNAME:EDT
DTSTART:20230312T070000
END:DAYLIGHT
BEGIN:STANDARD
TZOFFSETFROM:-0400
TZOFFSETTO:-0500
TZNAME:EST
DTSTART:20231105T060000
END:STANDARD
BEGIN:DAYLIGHT
TZOFFSETFROM:-0500
TZOFFSETTO:-0400
TZNAME:EDT
DTSTART:20240310T070000
END:DAYLIGHT
BEGIN:STANDARD
TZOFFSETFROM:-0400
TZOFFSETTO:-0500
TZNAME:EST
DTSTART:20241103T060000
END:STANDARD
END:VTIMEZONE
BEGIN:VEVENT
DTSTART;TZID=America/New_York:20230216T153000
DTEND;TZID=America/New_York:20230216T170000
DTSTAMP:20260422T090927
CREATED:20230117T183959Z
LAST-MODIFIED:20230117T183959Z
UID:10000329-1676561400-1676566800@valrc.org
SUMMARY:VALRC: Cultural Competence in Adult Education Webinar
DESCRIPTION:This webinar will be an introduction to and overview of cultural competence in the adult education classroom. The goals of the webinar are to provide a framework for cultural competence that can impact the adult education classroom\, discuss strategies for developing and self-assessing cultural competence\, and present strategies for incorporating cultural competence into adult education classrooms and instruction. \nAt VALRC we acknowledge that this work is continuous and on-going. Our goal is to start this conversation with the field at this webinar and to continue it through other types of professional development and support. Adult educators who join this webinar will receive information and resources on cultural competence development. Additionally\, participants will have the opportunity to discuss strategies and practices for developing and integrating cultural competence into the classroom. \nRegister Here
URL:https://valrc.org/event/valrc-cultural-competence-in-adult-education-webinar-2/
LOCATION:Virtual
CATEGORIES:Webinar
END:VEVENT
END:VCALENDAR