BEGIN:VCALENDAR
VERSION:2.0
PRODID:-//VALRC - ECPv6.15.17.1//NONSGML v1.0//EN
CALSCALE:GREGORIAN
METHOD:PUBLISH
X-ORIGINAL-URL:https://valrc.org
X-WR-CALDESC:Events for VALRC
REFRESH-INTERVAL;VALUE=DURATION:PT1H
X-Robots-Tag:noindex
X-PUBLISHED-TTL:PT1H
BEGIN:VTIMEZONE
TZID:America/New_York
BEGIN:DAYLIGHT
TZOFFSETFROM:-0500
TZOFFSETTO:-0400
TZNAME:EDT
DTSTART:20210314T070000
END:DAYLIGHT
BEGIN:STANDARD
TZOFFSETFROM:-0400
TZOFFSETTO:-0500
TZNAME:EST
DTSTART:20211107T060000
END:STANDARD
BEGIN:DAYLIGHT
TZOFFSETFROM:-0500
TZOFFSETTO:-0400
TZNAME:EDT
DTSTART:20220313T070000
END:DAYLIGHT
BEGIN:STANDARD
TZOFFSETFROM:-0400
TZOFFSETTO:-0500
TZNAME:EST
DTSTART:20221106T060000
END:STANDARD
BEGIN:DAYLIGHT
TZOFFSETFROM:-0500
TZOFFSETTO:-0400
TZNAME:EDT
DTSTART:20230312T070000
END:DAYLIGHT
BEGIN:STANDARD
TZOFFSETFROM:-0400
TZOFFSETTO:-0500
TZNAME:EST
DTSTART:20231105T060000
END:STANDARD
END:VTIMEZONE
BEGIN:VEVENT
DTSTART;TZID=America/New_York:20221018T140000
DTEND;TZID=America/New_York:20221018T140000
DTSTAMP:20260422T174758
CREATED:20220420T180003Z
LAST-MODIFIED:20221031T184621Z
UID:10000159-1666101600-1666101600@valrc.org
SUMMARY:VALRC: Data Office Hours
DESCRIPTION:Data Office Hours is an hour long\, ongoing monthly meeting for anyone involved in adult ed data collection and reporting. This session provides support for policy and practice related to NRS data collection. \n  \n 
URL:https://valrc.org/event/valrc-data-office-hours-4/
LOCATION:Virtual
CATEGORIES:Webinar
END:VEVENT
BEGIN:VEVENT
DTSTART;TZID=America/New_York:20221018T153000
DTEND;TZID=America/New_York:20221018T170000
DTSTAMP:20260422T174758
CREATED:20220826T162902Z
LAST-MODIFIED:20221031T184718Z
UID:10000266-1666107000-1666112400@valrc.org
SUMMARY:VALRC: Teaching Writing: Strategies for Organizing & More
DESCRIPTION:This webinar explores how teachers can leverage strategy-based instruction to support learners in organizing their writing and developing their skills as writers. \nThe Teaching Writing series is targeted at ABE/ASE English language arts instructors\, but anyone who teaches writing is welcome to participate.
URL:https://valrc.org/event/valrc-teaching-writing-strategies-for-organizing-more/
LOCATION:Online
CATEGORIES:Webinar
END:VEVENT
END:VCALENDAR