BEGIN:VCALENDAR
VERSION:2.0
PRODID:-//VALRC - ECPv6.15.17.1//NONSGML v1.0//EN
CALSCALE:GREGORIAN
METHOD:PUBLISH
X-WR-CALNAME:VALRC
X-ORIGINAL-URL:https://valrc.org
X-WR-CALDESC:Events for VALRC
REFRESH-INTERVAL;VALUE=DURATION:PT1H
X-Robots-Tag:noindex
X-PUBLISHED-TTL:PT1H
BEGIN:VTIMEZONE
TZID:America/New_York
BEGIN:DAYLIGHT
TZOFFSETFROM:-0500
TZOFFSETTO:-0400
TZNAME:EDT
DTSTART:20210314T070000
END:DAYLIGHT
BEGIN:STANDARD
TZOFFSETFROM:-0400
TZOFFSETTO:-0500
TZNAME:EST
DTSTART:20211107T060000
END:STANDARD
BEGIN:DAYLIGHT
TZOFFSETFROM:-0500
TZOFFSETTO:-0400
TZNAME:EDT
DTSTART:20220313T070000
END:DAYLIGHT
BEGIN:STANDARD
TZOFFSETFROM:-0400
TZOFFSETTO:-0500
TZNAME:EST
DTSTART:20221106T060000
END:STANDARD
BEGIN:DAYLIGHT
TZOFFSETFROM:-0500
TZOFFSETTO:-0400
TZNAME:EDT
DTSTART:20230312T070000
END:DAYLIGHT
BEGIN:STANDARD
TZOFFSETFROM:-0400
TZOFFSETTO:-0500
TZNAME:EST
DTSTART:20231105T060000
END:STANDARD
END:VTIMEZONE
BEGIN:VEVENT
DTSTART;TZID=America/New_York:20220913T153000
DTEND;TZID=America/New_York:20220913T170000
DTSTAMP:20260422T185548
CREATED:20220826T161938Z
LAST-MODIFIED:20220826T163700Z
UID:10000265-1663083000-1663088400@valrc.org
SUMMARY:VALRC: Teaching Writing: Beyond the Blank Page or Screen
DESCRIPTION:This webinar reviews foundational\, evidence-based practices for writing instruction and focuses on practical strategies that encourage learners to produce more writing.  Register here or using the link below. \nThe Teaching Writing series is targeted at ABE/ASE English language arts instructors\, but anyone who teaches writing is welcome to participate.
URL:https://valrc.org/event/teaching-writing-webinar-sept22/
LOCATION:Online
CATEGORIES:Webinar
END:VEVENT
END:VCALENDAR