BEGIN:VCALENDAR
VERSION:2.0
PRODID:-//VALRC - ECPv6.15.17.1//NONSGML v1.0//EN
CALSCALE:GREGORIAN
METHOD:PUBLISH
X-WR-CALNAME:VALRC
X-ORIGINAL-URL:https://valrc.org
X-WR-CALDESC:Events for VALRC
REFRESH-INTERVAL;VALUE=DURATION:PT1H
X-Robots-Tag:noindex
X-PUBLISHED-TTL:PT1H
BEGIN:VTIMEZONE
TZID:America/New_York
BEGIN:DAYLIGHT
TZOFFSETFROM:-0500
TZOFFSETTO:-0400
TZNAME:EDT
DTSTART:20230312T070000
END:DAYLIGHT
BEGIN:STANDARD
TZOFFSETFROM:-0400
TZOFFSETTO:-0500
TZNAME:EST
DTSTART:20231105T060000
END:STANDARD
BEGIN:DAYLIGHT
TZOFFSETFROM:-0500
TZOFFSETTO:-0400
TZNAME:EDT
DTSTART:20240310T070000
END:DAYLIGHT
BEGIN:STANDARD
TZOFFSETFROM:-0400
TZOFFSETTO:-0500
TZNAME:EST
DTSTART:20241103T060000
END:STANDARD
BEGIN:DAYLIGHT
TZOFFSETFROM:-0500
TZOFFSETTO:-0400
TZNAME:EDT
DTSTART:20250309T070000
END:DAYLIGHT
BEGIN:STANDARD
TZOFFSETFROM:-0400
TZOFFSETTO:-0500
TZNAME:EST
DTSTART:20251102T060000
END:STANDARD
END:VTIMEZONE
BEGIN:VEVENT
DTSTART;TZID=America/New_York:20240910T133000
DTEND;TZID=America/New_York:20240910T150000
DTSTAMP:20260422T050926
CREATED:20240708T193420Z
LAST-MODIFIED:20240819T170504Z
UID:10000590-1725975000-1725980400@valrc.org
SUMMARY:LACES: Getting Off to a Good Start
DESCRIPTION:Join here.
URL:https://valrc.org/event/laces-getting-off-to-a-good-start/
CATEGORIES:Webinar
END:VEVENT
BEGIN:VEVENT
DTSTART;TZID=America/New_York:20240916T133000
DTEND;TZID=America/New_York:20240916T153000
DTSTAMP:20260422T050926
CREATED:20240801T144608Z
LAST-MODIFIED:20240801T144627Z
UID:10000606-1726493400-1726500600@valrc.org
SUMMARY:Bimonthly Program Managers Meeting
DESCRIPTION:This year’s bimonthly program managers meetings will be held on Mondays at 1:30p – 3:00p with an optional 30 minutes for discussion. Registering once will enable you to join ALL of the meetings for the 2024 – 2025 year. \nPlease save these dates on your calendars for the meetings: \n\nSeptember 16\nNovember 18\nJanuary 13\nMarch 17 (wear green!)\nMay 12\n\nRegister here
URL:https://valrc.org/event/bimonthly-program-managers-meeting-2/
CATEGORIES:Webinar
END:VEVENT
BEGIN:VEVENT
DTSTART;TZID=America/New_York:20240918T140000
DTEND;TZID=America/New_York:20240918T160000
DTSTAMP:20260422T050926
CREATED:20240827T140436Z
LAST-MODIFIED:20240903T152852Z
UID:10000617-1726668000-1726675200@valrc.org
SUMMARY:VALRC: Science of Reading Overview
DESCRIPTION:This is a repeat webinar from Spring 2024. \nThis session presents a basic overview of the science of reading and effective reading instruction\, including alphabetics\, fluency\, vocabulary\, and comprehension. During the session\, we discuss strategies for each component of reading and how to use them in the classroom. Participants will leave with resources for teaching each component. \nRegister
URL:https://valrc.org/event/valrc-science-of-reading-overview-3/
LOCATION:Online
CATEGORIES:Webinar
END:VEVENT
BEGIN:VEVENT
DTSTART;TZID=America/New_York:20240924T153000
DTEND;TZID=America/New_York:20240924T170000
DTSTAMP:20260422T050926
CREATED:20240826T134135Z
LAST-MODIFIED:20240826T142553Z
UID:10000616-1727191800-1727197200@valrc.org
SUMMARY:VALRC: Lesson Planning for Adult ESOL Instruction
DESCRIPTION:Lesson planning is an important part of instruction but can also be overwhelming and time-consuming. Are you interested in learning and sharing strategies\, tips\, and templates for effective lesson planning? \nDuring this webinar\, we will discuss the importance and impact of lesson planning\, lesson plan routines and templates that support English language instruction\, important content and engaging activities to include in a lesson plan\, and how to create a lesson plan strategy. In addition\, participants will leave the webinar with customizable lesson plan templates and resources.  \nRegister Here
URL:https://valrc.org/event/valrc-lesson-planning-for-adult-esol-instruction/
LOCATION:Virtual
CATEGORIES:Webinar
END:VEVENT
END:VCALENDAR