BEGIN:VCALENDAR
VERSION:2.0
PRODID:-//VALRC - ECPv6.15.17.1//NONSGML v1.0//EN
CALSCALE:GREGORIAN
METHOD:PUBLISH
X-ORIGINAL-URL:https://valrc.org
X-WR-CALDESC:Events for VALRC
REFRESH-INTERVAL;VALUE=DURATION:PT1H
X-Robots-Tag:noindex
X-PUBLISHED-TTL:PT1H
BEGIN:VTIMEZONE
TZID:America/New_York
BEGIN:DAYLIGHT
TZOFFSETFROM:-0500
TZOFFSETTO:-0400
TZNAME:EDT
DTSTART:20230312T070000
END:DAYLIGHT
BEGIN:STANDARD
TZOFFSETFROM:-0400
TZOFFSETTO:-0500
TZNAME:EST
DTSTART:20231105T060000
END:STANDARD
BEGIN:DAYLIGHT
TZOFFSETFROM:-0500
TZOFFSETTO:-0400
TZNAME:EDT
DTSTART:20240310T070000
END:DAYLIGHT
BEGIN:STANDARD
TZOFFSETFROM:-0400
TZOFFSETTO:-0500
TZNAME:EST
DTSTART:20241103T060000
END:STANDARD
BEGIN:DAYLIGHT
TZOFFSETFROM:-0500
TZOFFSETTO:-0400
TZNAME:EDT
DTSTART:20250309T070000
END:DAYLIGHT
BEGIN:STANDARD
TZOFFSETFROM:-0400
TZOFFSETTO:-0500
TZNAME:EST
DTSTART:20251102T060000
END:STANDARD
END:VTIMEZONE
BEGIN:VEVENT
DTSTART;TZID=America/New_York:20240404T150000
DTEND;TZID=America/New_York:20240404T170000
DTSTAMP:20260422T003311
CREATED:20240227T165448Z
LAST-MODIFIED:20240227T165448Z
UID:10000536-1712242800-1712250000@valrc.org
SUMMARY:VALRC Beginning Literacy Webinar Series: Contextualized Phonics Instruction
DESCRIPTION:This webinar will present strategies for contextualizing phonics instruction in the ESOL beginning literacy or multilevel classroom as well as during one-on-one tutoring sessions. We will discuss strategies for contextualizing phonics instruction and walk through the steps of implementing this strategy in different ESOL instructional settings as well as connections between this approach and the science of reading. Participants will leave the webinar with an understanding of this approach\, how it benefits ESOL beginning literacy instruction\, and strategies for implementing this approach in the adult ESOL classroom. \nRegister Here
URL:https://valrc.org/event/valrc-beginning-literacy-webinar-series-contextualized-phonics-instruction/
LOCATION:Virtual
CATEGORIES:Webinar
END:VEVENT
BEGIN:VEVENT
DTSTART;TZID=America/New_York:20240409T153000
DTEND;TZID=America/New_York:20240409T170000
DTSTAMP:20260422T003311
CREATED:20240124T140134Z
LAST-MODIFIED:20240124T140248Z
UID:10000515-1712676600-1712682000@valrc.org
SUMMARY:VALRC: Multilevel ESOL Classes Webinar Series\, Session 3
DESCRIPTION:Do you want to tackle the challenges of teaching multilevel ESOL classes? Are you looking to address the varied learning needs of individual students within one classroom and become an effective multi-level teacher? \nThis 3 part webinar series will present strategies for effective multi-level instruction and planning for ESOL classes or multi-level classrooms. We will discuss the characteristics of a multilevel class\, planning for differentiated instruction and implementing different classroom management strategies for effective instruction. Participants will leave the webinar with an understanding of what multilevel classroom needs consist of\, how to prepare and plan for individual students needs\, and strategies for implementing differentiated instruction in the adult ESOL multi-level classroom. The resources will include articles\, videos and supplemental materials. \nObjectives:\n\nUnderstand the factors of a multilevel classroom and how to identify the needs of all students.\nIdentify strategies to effectively differentiate instruction in both multi level classrooms as well as leveled ESOL classes while accommodating literacy learners and more advanced students.\nDiscuss next steps for implementation\, including adaptation of materials and strategies with a specific group of learners.\n\nSession 3 will focus on grouping strategies and building community. \nRegister Here
URL:https://valrc.org/event/valrc-multilevel-esol-classes-webinar-series-session-3/
LOCATION:Virtual
CATEGORIES:Webinar
END:VEVENT
BEGIN:VEVENT
DTSTART;TZID=America/New_York:20240411T140000
DTEND;TZID=America/New_York:20240411T150000
DTSTAMP:20260422T003311
CREATED:20240319T125429Z
LAST-MODIFIED:20240319T125429Z
UID:10000539-1712844000-1712847600@valrc.org
SUMMARY:VALRC Lessons from the Field with Cassandra Kramer: Using Digital Literacy to Connect Adult English Learners to Their Families and Communities
DESCRIPTION:Incorporating family-motivated assignments and elements of digital literacy into the ESL classroom can empower adult English learners to succeed in the workforce and at home. In this webinar\, join the English Empowerment Center’s Cassandra Kramer to explore mini-projects that can help connect learners to their communities in a digital way. Participants will have the opportunity to work together to create their own family-focused mini project that uses digital literacy. All participants will be able to take the mini-projects highlighted in this presentation and adapt and use them in their own classrooms. \nRegister here.
URL:https://valrc.org/event/valrc-lessons-from-the-field-with-cassandra-kramer-using-digital-literacy-to-connect-adult-english-learners-to-their-families-and-communities/
LOCATION:Online
CATEGORIES:Webinar
END:VEVENT
BEGIN:VEVENT
DTSTART;TZID=America/New_York:20240425T140000
DTEND;TZID=America/New_York:20240425T153000
DTSTAMP:20260422T003311
CREATED:20240116T203415Z
LAST-MODIFIED:20240319T212631Z
UID:10000489-1714053600-1714059000@valrc.org
SUMMARY:DARS WINDMILLS: Harness the Power of Inclusion
DESCRIPTION:Windmills has a proven history of assisting those with and without disabilities to better understand the culture of disability in the workplace. \nWe will be rotating the following modules: \n\nFact or Fiction: Jan 25\nWhose Fault: Feb 22\nPerspectives: Mar 28\nTaking Emotions out of Emotional Disabilities: Apr 25\nProfiles (coming May 23)\nAT and Reasonable Accommodations (coming June 27)\n\nPre-registration is required. Register HERE.
URL:https://valrc.org/event/windmills-harness-the-power-of-inclusion/2024-04-25/
CATEGORIES:Webinar
ATTACH;FMTTYPE=image/jpeg:https://valrc.org/wp-content/uploads/2023/08/disability-scaled-e1691771653187.jpg
END:VEVENT
END:VCALENDAR