BEGIN:VCALENDAR
VERSION:2.0
PRODID:-//VALRC - ECPv6.15.17.1//NONSGML v1.0//EN
CALSCALE:GREGORIAN
METHOD:PUBLISH
X-ORIGINAL-URL:https://valrc.org
X-WR-CALDESC:Events for VALRC
REFRESH-INTERVAL;VALUE=DURATION:PT1H
X-Robots-Tag:noindex
X-PUBLISHED-TTL:PT1H
BEGIN:VTIMEZONE
TZID:America/New_York
BEGIN:DAYLIGHT
TZOFFSETFROM:-0500
TZOFFSETTO:-0400
TZNAME:EDT
DTSTART:20220313T070000
END:DAYLIGHT
BEGIN:STANDARD
TZOFFSETFROM:-0400
TZOFFSETTO:-0500
TZNAME:EST
DTSTART:20221106T060000
END:STANDARD
BEGIN:DAYLIGHT
TZOFFSETFROM:-0500
TZOFFSETTO:-0400
TZNAME:EDT
DTSTART:20230312T070000
END:DAYLIGHT
BEGIN:STANDARD
TZOFFSETFROM:-0400
TZOFFSETTO:-0500
TZNAME:EST
DTSTART:20231105T060000
END:STANDARD
BEGIN:DAYLIGHT
TZOFFSETFROM:-0500
TZOFFSETTO:-0400
TZNAME:EDT
DTSTART:20240310T070000
END:DAYLIGHT
BEGIN:STANDARD
TZOFFSETFROM:-0400
TZOFFSETTO:-0500
TZNAME:EST
DTSTART:20241103T060000
END:STANDARD
END:VTIMEZONE
BEGIN:VEVENT
DTSTART;TZID=America/New_York:20230411T120000
DTEND;TZID=America/New_York:20230411T130000
DTSTAMP:20260422T051027
CREATED:20230328T212950Z
LAST-MODIFIED:20230328T213456Z
UID:10000375-1681214400-1681218000@valrc.org
SUMMARY:VALRC Spring Math Webinar Series - Session 1
DESCRIPTION:The first session will cover the math interest survey responses\, including a discussion of the strategies and topics and math instructors want to learn about most. \nWe will also explore how The Change Agent\, an adult learner publication\, can be used for contextualized math instruction. \nThe content focus for webinars 2 and 3 will be determined through discussions and feedback from the first webinar. \nRegister here.
URL:https://valrc.org/event/spring-math-series-session-1/
LOCATION:Virtual
CATEGORIES:Webinar
END:VEVENT
END:VCALENDAR