BEGIN:VCALENDAR
VERSION:2.0
PRODID:-//VALRC - ECPv6.15.17.1//NONSGML v1.0//EN
CALSCALE:GREGORIAN
METHOD:PUBLISH
X-ORIGINAL-URL:https://valrc.org
X-WR-CALDESC:Events for VALRC
REFRESH-INTERVAL;VALUE=DURATION:PT1H
X-Robots-Tag:noindex
X-PUBLISHED-TTL:PT1H
BEGIN:VTIMEZONE
TZID:America/New_York
BEGIN:DAYLIGHT
TZOFFSETFROM:-0500
TZOFFSETTO:-0400
TZNAME:EDT
DTSTART:20220313T070000
END:DAYLIGHT
BEGIN:STANDARD
TZOFFSETFROM:-0400
TZOFFSETTO:-0500
TZNAME:EST
DTSTART:20221106T060000
END:STANDARD
BEGIN:DAYLIGHT
TZOFFSETFROM:-0500
TZOFFSETTO:-0400
TZNAME:EDT
DTSTART:20230312T070000
END:DAYLIGHT
BEGIN:STANDARD
TZOFFSETFROM:-0400
TZOFFSETTO:-0500
TZNAME:EST
DTSTART:20231105T060000
END:STANDARD
BEGIN:DAYLIGHT
TZOFFSETFROM:-0500
TZOFFSETTO:-0400
TZNAME:EDT
DTSTART:20240310T070000
END:DAYLIGHT
BEGIN:STANDARD
TZOFFSETFROM:-0400
TZOFFSETTO:-0500
TZNAME:EST
DTSTART:20241103T060000
END:STANDARD
END:VTIMEZONE
BEGIN:VEVENT
DTSTART;TZID=America/New_York:20230110T140000
DTEND;TZID=America/New_York:20230110T150000
DTSTAMP:20260422T090917
CREATED:20220901T125753Z
LAST-MODIFIED:20220901T125924Z
UID:10000282-1673359200-1673362800@valrc.org
SUMMARY:VALRC: Data Office Hours
DESCRIPTION:Data Office Hours is an hour long\, ongoing monthly meeting for anyone involved in adult ed data collection and reporting. This session provides support for policy and practice related to NRS data collection.\n1st Tuesday of Each month from 2:00–3:00 p.m.
URL:https://valrc.org/event/valrc-data-office-hours-7/
LOCATION:Virtual
CATEGORIES:Webinar
END:VEVENT
BEGIN:VEVENT
DTSTART;TZID=America/New_York:20230124T150000
DTEND;TZID=America/New_York:20230124T160000
DTSTAMP:20260422T090917
CREATED:20230117T172440Z
LAST-MODIFIED:20230130T181106Z
UID:10000320-1674572400-1674576000@valrc.org
SUMMARY:LINCS/VALRC: Trauma-Informed Care and Social Emotional Learning for Adult ESOL Instruction
DESCRIPTION:Trauma-Informed Care and Social Emotional Learning can have a positive impact on persistence and language development for adult English learners. Join Kate Rolander and Hali Massey from the Virginia Adult Learning Resource Center for ideas on how to effectively integrate research-based practices into adult instruction for adult English learners. Participants will leave with numerous practical classroom activities and materials. \n 
URL:https://valrc.org/event/lincs-valrc-trauma-informed-care-and-social-emotional-learning-for-adult-esol-instruction/
LOCATION:Virtual
CATEGORIES:Webinar
ATTACH;FMTTYPE=image/png:https://valrc.org/wp-content/uploads/2022/02/LINCS-Logo-1.png
END:VEVENT
BEGIN:VEVENT
DTSTART;TZID=America/New_York:20230130T130000
DTEND;TZID=America/New_York:20230130T143000
DTSTAMP:20260422T090917
CREATED:20230117T171012Z
LAST-MODIFIED:20230117T191643Z
UID:10000314-1675083600-1675089000@valrc.org
SUMMARY:VALRC: Using Interactive Data Maps
DESCRIPTION:Come learn how to use the PIAAC and Barbara Bush Foundation interactive data maps to help identify the scope of need in your area. You will also learn how the information in these maps can help when writing grant applications\, talking to business and workforce partners\, or when planning outreach. Both maps use results from the PIAAC Survey of Adult Skills. \nRegister Here
URL:https://valrc.org/event/valrc-using-interactive-data-maps/
LOCATION:Virtual
CATEGORIES:Webinar
END:VEVENT
END:VCALENDAR