BEGIN:VCALENDAR
VERSION:2.0
PRODID:-//VALRC - ECPv6.15.17.1//NONSGML v1.0//EN
CALSCALE:GREGORIAN
METHOD:PUBLISH
X-ORIGINAL-URL:https://valrc.org
X-WR-CALDESC:Events for VALRC
REFRESH-INTERVAL;VALUE=DURATION:PT1H
X-Robots-Tag:noindex
X-PUBLISHED-TTL:PT1H
BEGIN:VTIMEZONE
TZID:America/New_York
BEGIN:DAYLIGHT
TZOFFSETFROM:-0500
TZOFFSETTO:-0400
TZNAME:EDT
DTSTART:20230312T070000
END:DAYLIGHT
BEGIN:STANDARD
TZOFFSETFROM:-0400
TZOFFSETTO:-0500
TZNAME:EST
DTSTART:20231105T060000
END:STANDARD
BEGIN:DAYLIGHT
TZOFFSETFROM:-0500
TZOFFSETTO:-0400
TZNAME:EDT
DTSTART:20240310T070000
END:DAYLIGHT
BEGIN:STANDARD
TZOFFSETFROM:-0400
TZOFFSETTO:-0500
TZNAME:EST
DTSTART:20241103T060000
END:STANDARD
BEGIN:DAYLIGHT
TZOFFSETFROM:-0500
TZOFFSETTO:-0400
TZNAME:EDT
DTSTART:20250309T070000
END:DAYLIGHT
BEGIN:STANDARD
TZOFFSETFROM:-0400
TZOFFSETTO:-0500
TZNAME:EST
DTSTART:20251102T060000
END:STANDARD
END:VTIMEZONE
BEGIN:VEVENT
DTSTART;VALUE=DATE:20241021
DTEND;VALUE=DATE:20241024
DTSTAMP:20260425T225714
CREATED:20240415T191934Z
LAST-MODIFIED:20240415T191934Z
UID:10000556-1729468800-1729727999@valrc.org
SUMMARY:VAACE
DESCRIPTION:Save the dates! This year’s annual VAACE conference will be in person in Charlottesville\, Virginia. Check back often for updates!
URL:https://valrc.org/event/vaace/
CATEGORIES:Conference
END:VEVENT
BEGIN:VEVENT
DTSTART;TZID=America/New_York:20241022T153000
DTEND;TZID=America/New_York:20241022T170000
DTSTAMP:20260425T225714
CREATED:20240828T170725Z
LAST-MODIFIED:20241017T183311Z
UID:10000618-1729611000-1729616400@valrc.org
SUMMARY:GEDTS Tuesdays for Teachers: Critical Reading and the RLA Extended Response
DESCRIPTION:Previous Tuesdays for Teachers sessions on the GED® RLA Extended Response have focused on many aspects of writing including grammar skills\, the writing process\, and creating effective arguments. Yet the extended response is just as much a reading task as it is a writing one. \nIn this session\, participants will discover strategies for critically reading the source text arguments and using a T-chart to gather evidence. Participants will also learn an effective method for analyzing evidence and where to find other resources to help students practice this task. There will be time at the end to process thoughts and pose questions. \nRegister here for October’s webinar. \nTuesdays for Teachers is GEDTS’ free professional development series designed for educators. This bi-monthly series takes a deeper dive into classroom strategies and techniques for the GED® test. Find previous webinar recordings on ged.com. \n 
URL:https://valrc.org/event/gedts-tuesday-for-teachers/
LOCATION:Online
END:VEVENT
END:VCALENDAR